BEGIN:VCALENDAR
VERSION:2.0
PRODID:-//Vinje Lutheran Church - ECPv6.15.20//NONSGML v1.0//EN
CALSCALE:GREGORIAN
METHOD:PUBLISH
X-ORIGINAL-URL:https://www.vinjechurch.com
X-WR-CALDESC:Events for Vinje Lutheran Church
REFRESH-INTERVAL;VALUE=DURATION:PT1H
X-Robots-Tag:noindex
X-PUBLISHED-TTL:PT1H
BEGIN:VTIMEZONE
TZID:America/Chicago
BEGIN:DAYLIGHT
TZOFFSETFROM:-0600
TZOFFSETTO:-0500
TZNAME:CDT
DTSTART:20240310T080000
END:DAYLIGHT
BEGIN:STANDARD
TZOFFSETFROM:-0500
TZOFFSETTO:-0600
TZNAME:CST
DTSTART:20241103T070000
END:STANDARD
BEGIN:DAYLIGHT
TZOFFSETFROM:-0600
TZOFFSETTO:-0500
TZNAME:CDT
DTSTART:20250309T080000
END:DAYLIGHT
BEGIN:STANDARD
TZOFFSETFROM:-0500
TZOFFSETTO:-0600
TZNAME:CST
DTSTART:20251102T070000
END:STANDARD
BEGIN:DAYLIGHT
TZOFFSETFROM:-0600
TZOFFSETTO:-0500
TZNAME:CDT
DTSTART:20260308T080000
END:DAYLIGHT
BEGIN:STANDARD
TZOFFSETFROM:-0500
TZOFFSETTO:-0600
TZNAME:CST
DTSTART:20261101T070000
END:STANDARD
END:VTIMEZONE
BEGIN:VEVENT
DTSTART;TZID=America/Chicago:20250119T093000
DTEND;TZID=America/Chicago:20250119T103000
DTSTAMP:20260425T104228
CREATED:20210310T175710Z
LAST-MODIFIED:20250210T154557Z
UID:10005877-1737279000-1737282600@www.vinjechurch.com
SUMMARY:Worship
DESCRIPTION:
URL:https://www.vinjechurch.com/event/worship-in-person/2025-01-19/
END:VEVENT
BEGIN:VEVENT
DTSTART;TZID=America/Chicago:20250119T140000
DTEND;TZID=America/Chicago:20250119T170000
DTSTAMP:20260425T104228
CREATED:20240813T141106Z
LAST-MODIFIED:20240826T161107Z
UID:10007764-1737295200-1737306000@www.vinjechurch.com
SUMMARY:Vocal Recital
DESCRIPTION:Sanctuary \nCheryl Schmidt
URL:https://www.vinjechurch.com/event/vocal-recital-8/
END:VEVENT
END:VCALENDAR