BEGIN:VCALENDAR
VERSION:2.0
PRODID:-//Vinje Lutheran Church - ECPv6.15.20//NONSGML v1.0//EN
CALSCALE:GREGORIAN
METHOD:PUBLISH
X-WR-CALNAME:Vinje Lutheran Church
X-ORIGINAL-URL:https://www.vinjechurch.com
X-WR-CALDESC:Events for Vinje Lutheran Church
REFRESH-INTERVAL;VALUE=DURATION:PT1H
X-Robots-Tag:noindex
X-PUBLISHED-TTL:PT1H
BEGIN:VTIMEZONE
TZID:America/Chicago
BEGIN:DAYLIGHT
TZOFFSETFROM:-0600
TZOFFSETTO:-0500
TZNAME:CDT
DTSTART:20240310T080000
END:DAYLIGHT
BEGIN:STANDARD
TZOFFSETFROM:-0500
TZOFFSETTO:-0600
TZNAME:CST
DTSTART:20241103T070000
END:STANDARD
BEGIN:DAYLIGHT
TZOFFSETFROM:-0600
TZOFFSETTO:-0500
TZNAME:CDT
DTSTART:20250309T080000
END:DAYLIGHT
BEGIN:STANDARD
TZOFFSETFROM:-0500
TZOFFSETTO:-0600
TZNAME:CST
DTSTART:20251102T070000
END:STANDARD
BEGIN:DAYLIGHT
TZOFFSETFROM:-0600
TZOFFSETTO:-0500
TZNAME:CDT
DTSTART:20260308T080000
END:DAYLIGHT
BEGIN:STANDARD
TZOFFSETFROM:-0500
TZOFFSETTO:-0600
TZNAME:CST
DTSTART:20261101T070000
END:STANDARD
END:VTIMEZONE
BEGIN:VEVENT
DTSTART;VALUE=DATE:20250120
DTEND;VALUE=DATE:20250121
DTSTAMP:20260425T084427
CREATED:20250116T202558Z
LAST-MODIFIED:20250116T202659Z
UID:10008286-1737331200-1737417599@www.vinjechurch.com
SUMMARY:Office Closed- Martin Luther King Jr. Day
DESCRIPTION:
URL:https://www.vinjechurch.com/event/office-closed-martin-luther-king-jr-day/
END:VEVENT
BEGIN:VEVENT
DTSTART;TZID=America/Chicago:20250120T123000
DTEND;TZID=America/Chicago:20250120T133000
DTSTAMP:20260425T084427
CREATED:20240918T161734Z
LAST-MODIFIED:20250331T184532Z
UID:10008000-1737376200-1737379800@www.vinjechurch.com
SUMMARY:Women's Bible Study
DESCRIPTION:Heritage Room
URL:https://www.vinjechurch.com/event/womens-bible-study-5/2025-01-20/
END:VEVENT
BEGIN:VEVENT
DTSTART;TZID=America/Chicago:20250120T183000
DTEND;TZID=America/Chicago:20250120T203000
DTSTAMP:20260425T084427
CREATED:20250115T150732Z
LAST-MODIFIED:20250115T150732Z
UID:10008223-1737397800-1737405000@www.vinjechurch.com
SUMMARY:Women\, Wine and The Word
DESCRIPTION:
URL:https://www.vinjechurch.com/event/women-wine-and-the-word/
END:VEVENT
END:VCALENDAR