BEGIN:VCALENDAR
VERSION:2.0
PRODID:-//Vinje Lutheran Church - ECPv6.15.20//NONSGML v1.0//EN
CALSCALE:GREGORIAN
METHOD:PUBLISH
X-WR-CALNAME:Vinje Lutheran Church
X-ORIGINAL-URL:https://www.vinjechurch.com
X-WR-CALDESC:Events for Vinje Lutheran Church
REFRESH-INTERVAL;VALUE=DURATION:PT1H
X-Robots-Tag:noindex
X-PUBLISHED-TTL:PT1H
BEGIN:VTIMEZONE
TZID:America/Chicago
BEGIN:DAYLIGHT
TZOFFSETFROM:-0600
TZOFFSETTO:-0500
TZNAME:CDT
DTSTART:20240310T080000
END:DAYLIGHT
BEGIN:STANDARD
TZOFFSETFROM:-0500
TZOFFSETTO:-0600
TZNAME:CST
DTSTART:20241103T070000
END:STANDARD
BEGIN:DAYLIGHT
TZOFFSETFROM:-0600
TZOFFSETTO:-0500
TZNAME:CDT
DTSTART:20250309T080000
END:DAYLIGHT
BEGIN:STANDARD
TZOFFSETFROM:-0500
TZOFFSETTO:-0600
TZNAME:CST
DTSTART:20251102T070000
END:STANDARD
BEGIN:DAYLIGHT
TZOFFSETFROM:-0600
TZOFFSETTO:-0500
TZNAME:CDT
DTSTART:20260308T080000
END:DAYLIGHT
BEGIN:STANDARD
TZOFFSETFROM:-0500
TZOFFSETTO:-0600
TZNAME:CST
DTSTART:20261101T070000
END:STANDARD
END:VTIMEZONE
BEGIN:VEVENT
DTSTART;TZID=America/Chicago:20250205T153000
DTEND;TZID=America/Chicago:20250205T173000
DTSTAMP:20260425T084546
CREATED:20240813T191411Z
LAST-MODIFIED:20240813T191411Z
UID:10007788-1738769400-1738776600@www.vinjechurch.com
SUMMARY:Wednesday Live!
DESCRIPTION:
URL:https://www.vinjechurch.com/event/wednesday-live-3/2025-02-05/
END:VEVENT
BEGIN:VEVENT
DTSTART;TZID=America/Chicago:20250205T170000
DTEND;TZID=America/Chicago:20250205T180000
DTSTAMP:20260425T084546
CREATED:20240813T191533Z
LAST-MODIFIED:20250219T172409Z
UID:10007819-1738774800-1738778400@www.vinjechurch.com
SUMMARY:Supper
DESCRIPTION:
URL:https://www.vinjechurch.com/event/supper-4/2025-02-05/
END:VEVENT
BEGIN:VEVENT
DTSTART;TZID=America/Chicago:20250205T172500
DTEND;TZID=America/Chicago:20250205T180000
DTSTAMP:20260425T084546
CREATED:20240813T191700Z
LAST-MODIFIED:20250219T172446Z
UID:10007850-1738776300-1738778400@www.vinjechurch.com
SUMMARY:Nova/Shalom
DESCRIPTION:
URL:https://www.vinjechurch.com/event/nova-shalom-2/2025-02-05/
END:VEVENT
BEGIN:VEVENT
DTSTART;TZID=America/Chicago:20250205T180000
DTEND;TZID=America/Chicago:20250205T190000
DTSTAMP:20260425T084546
CREATED:20240813T191814Z
LAST-MODIFIED:20250219T172308Z
UID:10007881-1738778400-1738782000@www.vinjechurch.com
SUMMARY:Worship
DESCRIPTION:
URL:https://www.vinjechurch.com/event/worship-10/2025-02-05/
END:VEVENT
BEGIN:VEVENT
DTSTART;TZID=America/Chicago:20250205T180000
DTEND;TZID=America/Chicago:20250205T200000
DTSTAMP:20260425T084546
CREATED:20240813T191919Z
LAST-MODIFIED:20250219T172231Z
UID:10007913-1738778400-1738785600@www.vinjechurch.com
SUMMARY:Confirmation
DESCRIPTION:
URL:https://www.vinjechurch.com/event/confirmation-7/2025-02-05/
END:VEVENT
BEGIN:VEVENT
DTSTART;TZID=America/Chicago:20250205T184500
DTEND;TZID=America/Chicago:20250205T194500
DTSTAMP:20260425T084546
CREATED:20241219T180235Z
LAST-MODIFIED:20241219T180235Z
UID:10008211-1738781100-1738784700@www.vinjechurch.com
SUMMARY:Annual Meeting
DESCRIPTION:following worship
URL:https://www.vinjechurch.com/event/annual-meeting-6/
END:VEVENT
END:VCALENDAR