BEGIN:VCALENDAR
VERSION:2.0
PRODID:-//Vinje Lutheran Church - ECPv6.15.20//NONSGML v1.0//EN
CALSCALE:GREGORIAN
METHOD:PUBLISH
X-WR-CALNAME:Vinje Lutheran Church
X-ORIGINAL-URL:https://www.vinjechurch.com
X-WR-CALDESC:Events for Vinje Lutheran Church
REFRESH-INTERVAL;VALUE=DURATION:PT1H
X-Robots-Tag:noindex
X-PUBLISHED-TTL:PT1H
BEGIN:VTIMEZONE
TZID:America/Chicago
BEGIN:DAYLIGHT
TZOFFSETFROM:-0600
TZOFFSETTO:-0500
TZNAME:CDT
DTSTART:20250309T080000
END:DAYLIGHT
BEGIN:STANDARD
TZOFFSETFROM:-0500
TZOFFSETTO:-0600
TZNAME:CST
DTSTART:20251102T070000
END:STANDARD
BEGIN:DAYLIGHT
TZOFFSETFROM:-0600
TZOFFSETTO:-0500
TZNAME:CDT
DTSTART:20260308T080000
END:DAYLIGHT
BEGIN:STANDARD
TZOFFSETFROM:-0500
TZOFFSETTO:-0600
TZNAME:CST
DTSTART:20261101T070000
END:STANDARD
BEGIN:DAYLIGHT
TZOFFSETFROM:-0600
TZOFFSETTO:-0500
TZNAME:CDT
DTSTART:20270314T080000
END:DAYLIGHT
BEGIN:STANDARD
TZOFFSETFROM:-0500
TZOFFSETTO:-0600
TZNAME:CST
DTSTART:20271107T070000
END:STANDARD
END:VTIMEZONE
BEGIN:VEVENT
DTSTART;TZID=America/Chicago:20260316T120000
DTEND;TZID=America/Chicago:20260316T130000
DTSTAMP:20260425T150358
CREATED:20251222T174706Z
LAST-MODIFIED:20260223T192220Z
UID:10017412-1773662400-1773666000@www.vinjechurch.com
SUMMARY:Vinje Women's Bible Study
DESCRIPTION:heritage room
URL:https://www.vinjechurch.com/event/vinje-womens-bible-study-2/2026-03-16/
END:VEVENT
BEGIN:VEVENT
DTSTART;TZID=America/Chicago:20260316T181500
DTEND;TZID=America/Chicago:20260316T193000
DTSTAMP:20260425T150358
CREATED:20260203T164037Z
LAST-MODIFIED:20260203T164135Z
UID:10017483-1773684900-1773689400@www.vinjechurch.com
SUMMARY:JuBELLation
DESCRIPTION:sanctuary
URL:https://www.vinjechurch.com/event/jubellation-5/2026-03-16/
END:VEVENT
END:VCALENDAR