BEGIN:VCALENDAR
VERSION:2.0
PRODID:-//Vinje Lutheran Church - ECPv6.15.20//NONSGML v1.0//EN
CALSCALE:GREGORIAN
METHOD:PUBLISH
X-ORIGINAL-URL:https://www.vinjechurch.com
X-WR-CALDESC:Events for Vinje Lutheran Church
REFRESH-INTERVAL;VALUE=DURATION:PT1H
X-Robots-Tag:noindex
X-PUBLISHED-TTL:PT1H
BEGIN:VTIMEZONE
TZID:America/Chicago
BEGIN:DAYLIGHT
TZOFFSETFROM:-0600
TZOFFSETTO:-0500
TZNAME:CDT
DTSTART:20250309T080000
END:DAYLIGHT
BEGIN:STANDARD
TZOFFSETFROM:-0500
TZOFFSETTO:-0600
TZNAME:CST
DTSTART:20251102T070000
END:STANDARD
BEGIN:DAYLIGHT
TZOFFSETFROM:-0600
TZOFFSETTO:-0500
TZNAME:CDT
DTSTART:20260308T080000
END:DAYLIGHT
BEGIN:STANDARD
TZOFFSETFROM:-0500
TZOFFSETTO:-0600
TZNAME:CST
DTSTART:20261101T070000
END:STANDARD
BEGIN:DAYLIGHT
TZOFFSETFROM:-0600
TZOFFSETTO:-0500
TZNAME:CDT
DTSTART:20270314T080000
END:DAYLIGHT
BEGIN:STANDARD
TZOFFSETFROM:-0500
TZOFFSETTO:-0600
TZNAME:CST
DTSTART:20271107T070000
END:STANDARD
END:VTIMEZONE
BEGIN:VEVENT
DTSTART;TZID=America/Chicago:20260319T180000
DTEND;TZID=America/Chicago:20260319T200000
DTSTAMP:20260425T150639
CREATED:20210721T190950Z
LAST-MODIFIED:20251218T182945Z
UID:10006600-1773943200-1773950400@www.vinjechurch.com
SUMMARY:AIM People First
DESCRIPTION:Fellowship Hall \n  \n 
URL:https://www.vinjechurch.com/event/aim-people-first/2026-03-19/
END:VEVENT
BEGIN:VEVENT
DTSTART;TZID=America/Chicago:20260319T183000
DTEND;TZID=America/Chicago:20260319T193000
DTSTAMP:20260425T150639
CREATED:20210825T160824Z
LAST-MODIFIED:20251216T142151Z
UID:10017348-1773945000-1773948600@www.vinjechurch.com
SUMMARY:Blue Star Mother's
DESCRIPTION:Heritage Room
URL:https://www.vinjechurch.com/event/blue-star-mothers/2026-03-19/
END:VEVENT
BEGIN:VEVENT
DTSTART;TZID=America/Chicago:20260319T190000
DTEND;TZID=America/Chicago:20260319T220000
DTSTAMP:20260425T150639
CREATED:20250508T171814Z
LAST-MODIFIED:20260112T181000Z
UID:10008493-1773946800-1773957600@www.vinjechurch.com
SUMMARY:Mision Reg Bible Study
DESCRIPTION:Rm 102 Sept-May \nTheater June- Aug
URL:https://www.vinjechurch.com/event/mision-reg/2026-03-19/
END:VEVENT
END:VCALENDAR