BEGIN:VCALENDAR
VERSION:2.0
PRODID:-//Vinje Lutheran Church - ECPv6.15.20//NONSGML v1.0//EN
CALSCALE:GREGORIAN
METHOD:PUBLISH
X-WR-CALNAME:Vinje Lutheran Church
X-ORIGINAL-URL:https://www.vinjechurch.com
X-WR-CALDESC:Events for Vinje Lutheran Church
REFRESH-INTERVAL;VALUE=DURATION:PT1H
X-Robots-Tag:noindex
X-PUBLISHED-TTL:PT1H
BEGIN:VTIMEZONE
TZID:America/Chicago
BEGIN:DAYLIGHT
TZOFFSETFROM:-0600
TZOFFSETTO:-0500
TZNAME:CDT
DTSTART:20190310T080000
END:DAYLIGHT
BEGIN:STANDARD
TZOFFSETFROM:-0500
TZOFFSETTO:-0600
TZNAME:CST
DTSTART:20191103T070000
END:STANDARD
BEGIN:DAYLIGHT
TZOFFSETFROM:-0600
TZOFFSETTO:-0500
TZNAME:CDT
DTSTART:20200308T080000
END:DAYLIGHT
BEGIN:STANDARD
TZOFFSETFROM:-0500
TZOFFSETTO:-0600
TZNAME:CST
DTSTART:20201101T070000
END:STANDARD
BEGIN:DAYLIGHT
TZOFFSETFROM:-0600
TZOFFSETTO:-0500
TZNAME:CDT
DTSTART:20210314T080000
END:DAYLIGHT
BEGIN:STANDARD
TZOFFSETFROM:-0500
TZOFFSETTO:-0600
TZNAME:CST
DTSTART:20211107T070000
END:STANDARD
END:VTIMEZONE
BEGIN:VEVENT
DTSTART;TZID=America/Chicago:20201110T091500
DTEND;TZID=America/Chicago:20201110T093000
DTSTAMP:20260421T055627
CREATED:20201008T163957Z
LAST-MODIFIED:20201216T161807Z
UID:10004663-1604999700-1605000600@www.vinjechurch.com
SUMMARY:Loving Arms Chapel
DESCRIPTION:
URL:https://www.vinjechurch.com/event/loving-arms-chapel-2/2020-11-10/
END:VEVENT
BEGIN:VEVENT
DTSTART;TZID=America/Chicago:20201110T130000
DTEND;TZID=America/Chicago:20201110T140000
DTSTAMP:20260421T055627
CREATED:20201104T211155Z
LAST-MODIFIED:20201104T211651Z
UID:10003977-1605013200-1605016800@www.vinjechurch.com
SUMMARY:Staff Meeting
DESCRIPTION:
URL:https://www.vinjechurch.com/event/staff-meeting-3/2020-11-10/
END:VEVENT
BEGIN:VEVENT
DTSTART;TZID=America/Chicago:20201110T140000
DTEND;TZID=America/Chicago:20201110T150000
DTSTAMP:20260421T055627
CREATED:20201104T212345Z
LAST-MODIFIED:20201104T212345Z
UID:10003985-1605016800-1605020400@www.vinjechurch.com
SUMMARY:Naomi & Sarah Circle at Community Center - Reynolds Room
DESCRIPTION:
URL:https://www.vinjechurch.com/event/naomi-sarah-circle-at-community-center-reynolds-room/
END:VEVENT
BEGIN:VEVENT
DTSTART;TZID=America/Chicago:20201111T183000
DTEND;TZID=America/Chicago:20201111T193000
DTSTAMP:20260421T055627
CREATED:20200911T141647Z
LAST-MODIFIED:20210310T202008Z
UID:10004627-1605119400-1605123000@www.vinjechurch.com
SUMMARY:Confirmation - In person
DESCRIPTION:
URL:https://www.vinjechurch.com/event/confirmation-outdoors/2020-11-11/
END:VEVENT
BEGIN:VEVENT
DTSTART;TZID=America/Chicago:20201115T093000
DTEND;TZID=America/Chicago:20201115T100000
DTSTAMP:20260421T055627
CREATED:20210112T174312Z
LAST-MODIFIED:20210112T180325Z
UID:10004719-1605432600-1605434400@www.vinjechurch.com
SUMMARY:No in person worship online or radio only
DESCRIPTION:
URL:https://www.vinjechurch.com/event/no-in-person-worship-online-or-radio-only/2020-11-15/
END:VEVENT
BEGIN:VEVENT
DTSTART;TZID=America/Chicago:20201117T091500
DTEND;TZID=America/Chicago:20201117T093000
DTSTAMP:20260421T055627
CREATED:20201008T163957Z
LAST-MODIFIED:20201216T161807Z
UID:10004664-1605604500-1605605400@www.vinjechurch.com
SUMMARY:Loving Arms Chapel
DESCRIPTION:
URL:https://www.vinjechurch.com/event/loving-arms-chapel-2/2020-11-17/
END:VEVENT
BEGIN:VEVENT
DTSTART;TZID=America/Chicago:20201117T130000
DTEND;TZID=America/Chicago:20201117T140000
DTSTAMP:20260421T055627
CREATED:20201104T211155Z
LAST-MODIFIED:20201104T211651Z
UID:10003978-1605618000-1605621600@www.vinjechurch.com
SUMMARY:Staff Meeting
DESCRIPTION:
URL:https://www.vinjechurch.com/event/staff-meeting-3/2020-11-17/
END:VEVENT
BEGIN:VEVENT
DTSTART;TZID=America/Chicago:20201118T183000
DTEND;TZID=America/Chicago:20201118T193000
DTSTAMP:20260421T055627
CREATED:20200911T141647Z
LAST-MODIFIED:20210310T202008Z
UID:10004628-1605724200-1605727800@www.vinjechurch.com
SUMMARY:Confirmation - In person
DESCRIPTION:
URL:https://www.vinjechurch.com/event/confirmation-outdoors/2020-11-18/
END:VEVENT
BEGIN:VEVENT
DTSTART;VALUE=DATE:20201120
DTEND;VALUE=DATE:20201121
DTSTAMP:20260421T055627
CREATED:20201113T161633Z
LAST-MODIFIED:20230109T204149Z
UID:10004037-1605830400-1605916799@www.vinjechurch.com
SUMMARY:Church Office Closed
DESCRIPTION:
URL:https://www.vinjechurch.com/event/church-office-closed-3/2020-11-20/
END:VEVENT
BEGIN:VEVENT
DTSTART;TZID=America/Chicago:20201122T093000
DTEND;TZID=America/Chicago:20201122T100000
DTSTAMP:20260421T055627
CREATED:20210112T174312Z
LAST-MODIFIED:20210112T180325Z
UID:10004720-1606037400-1606039200@www.vinjechurch.com
SUMMARY:No in person worship online or radio only
DESCRIPTION:
URL:https://www.vinjechurch.com/event/no-in-person-worship-online-or-radio-only/2020-11-22/
END:VEVENT
BEGIN:VEVENT
DTSTART;TZID=America/Chicago:20201124T091500
DTEND;TZID=America/Chicago:20201124T093000
DTSTAMP:20260421T055627
CREATED:20201008T163957Z
LAST-MODIFIED:20201216T161807Z
UID:10004665-1606209300-1606210200@www.vinjechurch.com
SUMMARY:Loving Arms Chapel
DESCRIPTION:
URL:https://www.vinjechurch.com/event/loving-arms-chapel-2/2020-11-24/
END:VEVENT
BEGIN:VEVENT
DTSTART;TZID=America/Chicago:20201124T130000
DTEND;TZID=America/Chicago:20201124T140000
DTSTAMP:20260421T055627
CREATED:20201104T205847Z
LAST-MODIFIED:20210128T154813Z
UID:10003950-1606222800-1606226400@www.vinjechurch.com
SUMMARY:Staff Meeting
DESCRIPTION:
URL:https://www.vinjechurch.com/event/staff-meeting-2/2020-11-24/
END:VEVENT
BEGIN:VEVENT
DTSTART;TZID=America/Chicago:20201124T130000
DTEND;TZID=America/Chicago:20201124T140000
DTSTAMP:20260421T055627
CREATED:20201104T211155Z
LAST-MODIFIED:20201104T211651Z
UID:10003979-1606222800-1606226400@www.vinjechurch.com
SUMMARY:Staff Meeting
DESCRIPTION:
URL:https://www.vinjechurch.com/event/staff-meeting-3/2020-11-24/
END:VEVENT
BEGIN:VEVENT
DTSTART;TZID=America/Chicago:20201125T180000
DTEND;TZID=America/Chicago:20201125T190000
DTSTAMP:20260421T055627
CREATED:20201113T144241Z
LAST-MODIFIED:20201113T144241Z
UID:10004036-1606327200-1606330800@www.vinjechurch.com
SUMMARY:Thanksgiving Eve Worship online
DESCRIPTION:
URL:https://www.vinjechurch.com/event/thanksgiving-eve-worship-online/
END:VEVENT
BEGIN:VEVENT
DTSTART;TZID=America/Chicago:20201125T183000
DTEND;TZID=America/Chicago:20201125T193000
DTSTAMP:20260421T055627
CREATED:20200911T141647Z
LAST-MODIFIED:20210310T202008Z
UID:10004629-1606329000-1606332600@www.vinjechurch.com
SUMMARY:Confirmation - In person
DESCRIPTION:
URL:https://www.vinjechurch.com/event/confirmation-outdoors/2020-11-25/
END:VEVENT
BEGIN:VEVENT
DTSTART;VALUE=DATE:20201126
DTEND;VALUE=DATE:20201127
DTSTAMP:20260421T055627
CREATED:20201008T164945Z
LAST-MODIFIED:20201008T164945Z
UID:10004698-1606348800-1606435199@www.vinjechurch.com
SUMMARY:Church Office and Loving Arms - Closed
DESCRIPTION:
URL:https://www.vinjechurch.com/event/church-office-and-loving-arms-closed-2/
END:VEVENT
BEGIN:VEVENT
DTSTART;VALUE=DATE:20201127
DTEND;VALUE=DATE:20201128
DTSTAMP:20260421T055627
CREATED:20201008T164800Z
LAST-MODIFIED:20201008T164825Z
UID:10004696-1606435200-1606521599@www.vinjechurch.com
SUMMARY:Church Office and Loving Arms - Closed
DESCRIPTION:
URL:https://www.vinjechurch.com/event/church-office-and-loving-arms-closed/
END:VEVENT
BEGIN:VEVENT
DTSTART;TZID=America/Chicago:20201129T093000
DTEND;TZID=America/Chicago:20201129T100000
DTSTAMP:20260421T055627
CREATED:20210112T174312Z
LAST-MODIFIED:20210112T180325Z
UID:10004721-1606642200-1606644000@www.vinjechurch.com
SUMMARY:No in person worship online or radio only
DESCRIPTION:
URL:https://www.vinjechurch.com/event/no-in-person-worship-online-or-radio-only/2020-11-29/
END:VEVENT
BEGIN:VEVENT
DTSTART;TZID=America/Chicago:20201201T091500
DTEND;TZID=America/Chicago:20201201T093000
DTSTAMP:20260421T055627
CREATED:20201008T163957Z
LAST-MODIFIED:20201216T161807Z
UID:10004666-1606814100-1606815000@www.vinjechurch.com
SUMMARY:Loving Arms Chapel
DESCRIPTION:
URL:https://www.vinjechurch.com/event/loving-arms-chapel-2/2020-12-01/
END:VEVENT
BEGIN:VEVENT
DTSTART;TZID=America/Chicago:20201201T130000
DTEND;TZID=America/Chicago:20201201T140000
DTSTAMP:20260421T055627
CREATED:20201104T205847Z
LAST-MODIFIED:20210128T154813Z
UID:10003951-1606827600-1606831200@www.vinjechurch.com
SUMMARY:Staff Meeting
DESCRIPTION:
URL:https://www.vinjechurch.com/event/staff-meeting-2/2020-12-01/
END:VEVENT
BEGIN:VEVENT
DTSTART;TZID=America/Chicago:20201201T130000
DTEND;TZID=America/Chicago:20201201T140000
DTSTAMP:20260421T055627
CREATED:20201104T211155Z
LAST-MODIFIED:20201104T211651Z
UID:10003980-1606827600-1606831200@www.vinjechurch.com
SUMMARY:Staff Meeting
DESCRIPTION:
URL:https://www.vinjechurch.com/event/staff-meeting-3/2020-12-01/
END:VEVENT
BEGIN:VEVENT
DTSTART;TZID=America/Chicago:20201202T183000
DTEND;TZID=America/Chicago:20201202T193000
DTSTAMP:20260421T055627
CREATED:20200911T141647Z
LAST-MODIFIED:20210310T202008Z
UID:10004630-1606933800-1606937400@www.vinjechurch.com
SUMMARY:Confirmation - In person
DESCRIPTION:
URL:https://www.vinjechurch.com/event/confirmation-outdoors/2020-12-02/
END:VEVENT
BEGIN:VEVENT
DTSTART;TZID=America/Chicago:20201203T081500
DTEND;TZID=America/Chicago:20201203T093000
DTSTAMP:20260421T055627
CREATED:20201008T164434Z
LAST-MODIFIED:20210422T150924Z
UID:10004690-1606983300-1606987800@www.vinjechurch.com
SUMMARY:Elizabeth Circle - Heritage Room
DESCRIPTION:
URL:https://www.vinjechurch.com/event/elizabeth-circle-zoom-meeting/2020-12-03/
END:VEVENT
BEGIN:VEVENT
DTSTART;TZID=America/Chicago:20201203T130000
DTEND;TZID=America/Chicago:20201203T140000
DTSTAMP:20260421T055627
CREATED:20190918T115801Z
LAST-MODIFIED:20190920T185833Z
UID:10003255-1607000400-1607004000@www.vinjechurch.com
SUMMARY:Caregivers Support Group
DESCRIPTION:
URL:https://www.vinjechurch.com/event/caregivers-support-group/2020-12-03/
END:VEVENT
BEGIN:VEVENT
DTSTART;VALUE=DATE:20201204
DTEND;VALUE=DATE:20201205
DTSTAMP:20260421T055627
CREATED:20201113T161633Z
LAST-MODIFIED:20230109T204149Z
UID:10004038-1607040000-1607126399@www.vinjechurch.com
SUMMARY:Church Office Closed
DESCRIPTION:
URL:https://www.vinjechurch.com/event/church-office-closed-3/2020-12-04/
END:VEVENT
BEGIN:VEVENT
DTSTART;TZID=America/Chicago:20201206T093000
DTEND;TZID=America/Chicago:20201206T100000
DTSTAMP:20260421T055627
CREATED:20210112T174312Z
LAST-MODIFIED:20210112T180325Z
UID:10004722-1607247000-1607248800@www.vinjechurch.com
SUMMARY:No in person worship online or radio only
DESCRIPTION:
URL:https://www.vinjechurch.com/event/no-in-person-worship-online-or-radio-only/2020-12-06/
END:VEVENT
BEGIN:VEVENT
DTSTART;TZID=America/Chicago:20201208T091500
DTEND;TZID=America/Chicago:20201208T093000
DTSTAMP:20260421T055627
CREATED:20201008T163957Z
LAST-MODIFIED:20201216T161807Z
UID:10004667-1607418900-1607419800@www.vinjechurch.com
SUMMARY:Loving Arms Chapel
DESCRIPTION:
URL:https://www.vinjechurch.com/event/loving-arms-chapel-2/2020-12-08/
END:VEVENT
BEGIN:VEVENT
DTSTART;TZID=America/Chicago:20201208T130000
DTEND;TZID=America/Chicago:20201208T140000
DTSTAMP:20260421T055627
CREATED:20201104T205847Z
LAST-MODIFIED:20210128T154813Z
UID:10003952-1607432400-1607436000@www.vinjechurch.com
SUMMARY:Staff Meeting
DESCRIPTION:
URL:https://www.vinjechurch.com/event/staff-meeting-2/2020-12-08/
END:VEVENT
BEGIN:VEVENT
DTSTART;TZID=America/Chicago:20201208T130000
DTEND;TZID=America/Chicago:20201208T140000
DTSTAMP:20260421T055627
CREATED:20201104T211155Z
LAST-MODIFIED:20201104T211651Z
UID:10003981-1607432400-1607436000@www.vinjechurch.com
SUMMARY:Staff Meeting
DESCRIPTION:
URL:https://www.vinjechurch.com/event/staff-meeting-3/2020-12-08/
END:VEVENT
BEGIN:VEVENT
DTSTART;TZID=America/Chicago:20201209T183000
DTEND;TZID=America/Chicago:20201209T193000
DTSTAMP:20260421T055627
CREATED:20200911T141647Z
LAST-MODIFIED:20210310T202008Z
UID:10004631-1607538600-1607542200@www.vinjechurch.com
SUMMARY:Confirmation - In person
DESCRIPTION:
URL:https://www.vinjechurch.com/event/confirmation-outdoors/2020-12-09/
END:VEVENT
END:VCALENDAR