BEGIN:VCALENDAR
VERSION:2.0
PRODID:-//Vinje Lutheran Church - ECPv6.15.20//NONSGML v1.0//EN
CALSCALE:GREGORIAN
METHOD:PUBLISH
X-ORIGINAL-URL:https://www.vinjechurch.com
X-WR-CALDESC:Events for Vinje Lutheran Church
REFRESH-INTERVAL;VALUE=DURATION:PT1H
X-Robots-Tag:noindex
X-PUBLISHED-TTL:PT1H
BEGIN:VTIMEZONE
TZID:America/Chicago
BEGIN:DAYLIGHT
TZOFFSETFROM:-0600
TZOFFSETTO:-0500
TZNAME:CDT
DTSTART:20240310T080000
END:DAYLIGHT
BEGIN:STANDARD
TZOFFSETFROM:-0500
TZOFFSETTO:-0600
TZNAME:CST
DTSTART:20241103T070000
END:STANDARD
BEGIN:DAYLIGHT
TZOFFSETFROM:-0600
TZOFFSETTO:-0500
TZNAME:CDT
DTSTART:20250309T080000
END:DAYLIGHT
BEGIN:STANDARD
TZOFFSETFROM:-0500
TZOFFSETTO:-0600
TZNAME:CST
DTSTART:20251102T070000
END:STANDARD
BEGIN:DAYLIGHT
TZOFFSETFROM:-0600
TZOFFSETTO:-0500
TZNAME:CDT
DTSTART:20260308T080000
END:DAYLIGHT
BEGIN:STANDARD
TZOFFSETFROM:-0500
TZOFFSETTO:-0600
TZNAME:CST
DTSTART:20261101T070000
END:STANDARD
END:VTIMEZONE
BEGIN:VEVENT
DTSTART;TZID=America/Chicago:20250323T093000
DTEND;TZID=America/Chicago:20250323T103000
DTSTAMP:20260425T140144
CREATED:20210310T175710Z
LAST-MODIFIED:20250210T154557Z
UID:10005886-1742722200-1742725800@www.vinjechurch.com
SUMMARY:Worship
DESCRIPTION:
URL:https://www.vinjechurch.com/event/worship-in-person/2025-03-23/
END:VEVENT
BEGIN:VEVENT
DTSTART;TZID=America/Chicago:20250324T170000
DTEND;TZID=America/Chicago:20250324T180000
DTSTAMP:20260425T140144
CREATED:20250116T162521Z
LAST-MODIFIED:20250429T192605Z
UID:10008225-1742835600-1742839200@www.vinjechurch.com
SUMMARY:Loving Arms Board Meeting
DESCRIPTION:
URL:https://www.vinjechurch.com/event/loving-arms-board-meeting-2/2025-03-24/
END:VEVENT
BEGIN:VEVENT
DTSTART;TZID=America/Chicago:20250325T090000
DTEND;TZID=America/Chicago:20250325T110000
DTSTAMP:20260425T140144
CREATED:20240423T161314Z
LAST-MODIFIED:20241210T161206Z
UID:10007285-1742893200-1742900400@www.vinjechurch.com
SUMMARY:TOPS Meetings
DESCRIPTION:Room 408
URL:https://www.vinjechurch.com/event/tops-meetings/2025-03-25/
END:VEVENT
BEGIN:VEVENT
DTSTART;TZID=America/Chicago:20250325T100000
DTEND;TZID=America/Chicago:20250325T110000
DTSTAMP:20260425T140144
CREATED:20220119T152439Z
LAST-MODIFIED:20251007T135704Z
UID:10005904-1742896800-1742900400@www.vinjechurch.com
SUMMARY:Men's Bible Study
DESCRIPTION:
URL:https://www.vinjechurch.com/event/mens-bible-study-3/2025-03-25/
END:VEVENT
BEGIN:VEVENT
DTSTART;TZID=America/Chicago:20250326T170000
DTEND;TZID=America/Chicago:20250326T180000
DTSTAMP:20260425T140144
CREATED:20240813T191533Z
LAST-MODIFIED:20250219T172409Z
UID:10008334-1743008400-1743012000@www.vinjechurch.com
SUMMARY:Supper
DESCRIPTION:
URL:https://www.vinjechurch.com/event/supper-4/2025-03-26/
END:VEVENT
BEGIN:VEVENT
DTSTART;TZID=America/Chicago:20250326T180000
DTEND;TZID=America/Chicago:20250326T190000
DTSTAMP:20260425T140144
CREATED:20240813T191814Z
LAST-MODIFIED:20250219T172308Z
UID:10007888-1743012000-1743015600@www.vinjechurch.com
SUMMARY:Worship
DESCRIPTION:
URL:https://www.vinjechurch.com/event/worship-10/2025-03-26/
END:VEVENT
BEGIN:VEVENT
DTSTART;TZID=America/Chicago:20250327T090000
DTEND;TZID=America/Chicago:20250327T120000
DTSTAMP:20260425T140144
CREATED:20240411T160957Z
LAST-MODIFIED:20250319T163751Z
UID:10007232-1743066000-1743076800@www.vinjechurch.com
SUMMARY:Vinje Quilters
DESCRIPTION:
URL:https://www.vinjechurch.com/event/vinje-quilters-15/2025-03-27/
END:VEVENT
BEGIN:VEVENT
DTSTART;TZID=America/Chicago:20250330T093000
DTEND;TZID=America/Chicago:20250330T103000
DTSTAMP:20260425T140144
CREATED:20210310T175710Z
LAST-MODIFIED:20250210T154557Z
UID:10007534-1743327000-1743330600@www.vinjechurch.com
SUMMARY:Worship
DESCRIPTION:
URL:https://www.vinjechurch.com/event/worship-in-person/2025-03-30/
END:VEVENT
BEGIN:VEVENT
DTSTART;TZID=America/Chicago:20250331T123000
DTEND;TZID=America/Chicago:20250331T133000
DTSTAMP:20260425T140144
CREATED:20240918T161734Z
LAST-MODIFIED:20250331T184532Z
UID:10008008-1743424200-1743427800@www.vinjechurch.com
SUMMARY:Women's Bible Study
DESCRIPTION:Heritage Room
URL:https://www.vinjechurch.com/event/womens-bible-study-5/2025-03-31/
END:VEVENT
BEGIN:VEVENT
DTSTART;TZID=America/Chicago:20250401T090000
DTEND;TZID=America/Chicago:20250401T110000
DTSTAMP:20260425T140144
CREATED:20240423T161314Z
LAST-MODIFIED:20241210T161206Z
UID:10007286-1743498000-1743505200@www.vinjechurch.com
SUMMARY:TOPS Meetings
DESCRIPTION:Room 408
URL:https://www.vinjechurch.com/event/tops-meetings/2025-04-01/
END:VEVENT
BEGIN:VEVENT
DTSTART;TZID=America/Chicago:20250401T100000
DTEND;TZID=America/Chicago:20250401T110000
DTSTAMP:20260425T140144
CREATED:20220119T152439Z
LAST-MODIFIED:20251007T135704Z
UID:10005905-1743501600-1743505200@www.vinjechurch.com
SUMMARY:Men's Bible Study
DESCRIPTION:
URL:https://www.vinjechurch.com/event/mens-bible-study-3/2025-04-01/
END:VEVENT
BEGIN:VEVENT
DTSTART;TZID=America/Chicago:20250401T140000
DTEND;TZID=America/Chicago:20250401T160000
DTSTAMP:20260425T140144
CREATED:20220630T171105Z
LAST-MODIFIED:20251008T141827Z
UID:10005915-1743516000-1743523200@www.vinjechurch.com
SUMMARY:Ruth Circle
DESCRIPTION:Heritage Room
URL:https://www.vinjechurch.com/event/naomi-sarah-circle-3/2025-04-01/
END:VEVENT
BEGIN:VEVENT
DTSTART;TZID=America/Chicago:20250401T140000
DTEND;TZID=America/Chicago:20250401T200000
DTSTAMP:20260425T140144
CREATED:20250327T193017Z
LAST-MODIFIED:20250327T193017Z
UID:10008414-1743516000-1743537600@www.vinjechurch.com
SUMMARY:Directory Photos
DESCRIPTION:rm 102
URL:https://www.vinjechurch.com/event/directory-photos/2025-04-01/
END:VEVENT
BEGIN:VEVENT
DTSTART;TZID=America/Chicago:20250402T140000
DTEND;TZID=America/Chicago:20250402T200000
DTSTAMP:20260425T140144
CREATED:20250327T193017Z
LAST-MODIFIED:20250327T193017Z
UID:10008415-1743602400-1743624000@www.vinjechurch.com
SUMMARY:Directory Photos
DESCRIPTION:rm 102
URL:https://www.vinjechurch.com/event/directory-photos/2025-04-02/
END:VEVENT
BEGIN:VEVENT
DTSTART;TZID=America/Chicago:20250402T153000
DTEND;TZID=America/Chicago:20250402T173000
DTSTAMP:20260425T140144
CREATED:20240813T191411Z
LAST-MODIFIED:20240813T191411Z
UID:10007795-1743607800-1743615000@www.vinjechurch.com
SUMMARY:Wednesday Live!
DESCRIPTION:
URL:https://www.vinjechurch.com/event/wednesday-live-3/2025-04-02/
END:VEVENT
BEGIN:VEVENT
DTSTART;TZID=America/Chicago:20250402T170000
DTEND;TZID=America/Chicago:20250402T180000
DTSTAMP:20260425T140144
CREATED:20240813T191533Z
LAST-MODIFIED:20250219T172409Z
UID:10007826-1743613200-1743616800@www.vinjechurch.com
SUMMARY:Supper
DESCRIPTION:
URL:https://www.vinjechurch.com/event/supper-4/2025-04-02/
END:VEVENT
BEGIN:VEVENT
DTSTART;TZID=America/Chicago:20250402T172500
DTEND;TZID=America/Chicago:20250402T180000
DTSTAMP:20260425T140144
CREATED:20240813T191700Z
LAST-MODIFIED:20250219T172446Z
UID:10007857-1743614700-1743616800@www.vinjechurch.com
SUMMARY:Nova/Shalom
DESCRIPTION:
URL:https://www.vinjechurch.com/event/nova-shalom-2/2025-04-02/
END:VEVENT
BEGIN:VEVENT
DTSTART;TZID=America/Chicago:20250402T180000
DTEND;TZID=America/Chicago:20250402T190000
DTSTAMP:20260425T140144
CREATED:20240813T191814Z
LAST-MODIFIED:20250219T172308Z
UID:10007889-1743616800-1743620400@www.vinjechurch.com
SUMMARY:Worship
DESCRIPTION:
URL:https://www.vinjechurch.com/event/worship-10/2025-04-02/
END:VEVENT
BEGIN:VEVENT
DTSTART;TZID=America/Chicago:20250402T180000
DTEND;TZID=America/Chicago:20250402T200000
DTSTAMP:20260425T140144
CREATED:20240813T191919Z
LAST-MODIFIED:20250219T172231Z
UID:10007920-1743616800-1743624000@www.vinjechurch.com
SUMMARY:Confirmation
DESCRIPTION:
URL:https://www.vinjechurch.com/event/confirmation-7/2025-04-02/
END:VEVENT
BEGIN:VEVENT
DTSTART;TZID=America/Chicago:20250403T140000
DTEND;TZID=America/Chicago:20250403T200000
DTSTAMP:20260425T140144
CREATED:20250327T193017Z
LAST-MODIFIED:20250327T193017Z
UID:10008416-1743688800-1743710400@www.vinjechurch.com
SUMMARY:Directory Photos
DESCRIPTION:rm 102
URL:https://www.vinjechurch.com/event/directory-photos/2025-04-03/
END:VEVENT
BEGIN:VEVENT
DTSTART;TZID=America/Chicago:20250403T170000
DTEND;TZID=America/Chicago:20250403T200000
DTSTAMP:20260425T140144
CREATED:20250224T201147Z
LAST-MODIFIED:20250224T201147Z
UID:10008335-1743699600-1743710400@www.vinjechurch.com
SUMMARY:Sarah Augustine Event
DESCRIPTION:fellowship hall
URL:https://www.vinjechurch.com/event/sarah-augustine-event/
END:VEVENT
BEGIN:VEVENT
DTSTART;TZID=America/Chicago:20250404T140000
DTEND;TZID=America/Chicago:20250404T200000
DTSTAMP:20260425T140144
CREATED:20250327T193017Z
LAST-MODIFIED:20250327T193017Z
UID:10008417-1743775200-1743796800@www.vinjechurch.com
SUMMARY:Directory Photos
DESCRIPTION:rm 102
URL:https://www.vinjechurch.com/event/directory-photos/2025-04-04/
END:VEVENT
BEGIN:VEVENT
DTSTART;TZID=America/Chicago:20250405T100000
DTEND;TZID=America/Chicago:20250405T160000
DTSTAMP:20260425T140144
CREATED:20250327T193120Z
LAST-MODIFIED:20250327T193120Z
UID:10008418-1743847200-1743868800@www.vinjechurch.com
SUMMARY:Directory Photos
DESCRIPTION:
URL:https://www.vinjechurch.com/event/directory-photos-2/
END:VEVENT
BEGIN:VEVENT
DTSTART;TZID=America/Chicago:20250406T083000
DTEND;TZID=America/Chicago:20250406T093000
DTSTAMP:20260425T140144
CREATED:20241101T150415Z
LAST-MODIFIED:20241226T143654Z
UID:10008091-1743928200-1743931800@www.vinjechurch.com
SUMMARY:Early Childhood Sunday School
DESCRIPTION:
URL:https://www.vinjechurch.com/event/early-childhood-sunday-school/2025-04-06/
END:VEVENT
BEGIN:VEVENT
DTSTART;TZID=America/Chicago:20250406T093000
DTEND;TZID=America/Chicago:20250406T103000
DTSTAMP:20260425T140144
CREATED:20210310T175710Z
LAST-MODIFIED:20250210T154557Z
UID:10007535-1743931800-1743935400@www.vinjechurch.com
SUMMARY:Worship
DESCRIPTION:
URL:https://www.vinjechurch.com/event/worship-in-person/2025-04-06/
END:VEVENT
BEGIN:VEVENT
DTSTART;TZID=America/Chicago:20250407T143000
DTEND;TZID=America/Chicago:20250407T173000
DTSTAMP:20260425T140144
CREATED:20240813T141853Z
LAST-MODIFIED:20250403T172401Z
UID:10007766-1744036200-1744047000@www.vinjechurch.com
SUMMARY:Vocal Recital Rehearsal
DESCRIPTION:Fellowship hall \nCheryl Schmidt
URL:https://www.vinjechurch.com/event/vocal-recital-rehearsal/
END:VEVENT
BEGIN:VEVENT
DTSTART;TZID=America/Chicago:20250408T090000
DTEND;TZID=America/Chicago:20250408T110000
DTSTAMP:20260425T140144
CREATED:20240423T161314Z
LAST-MODIFIED:20241210T161206Z
UID:10007287-1744102800-1744110000@www.vinjechurch.com
SUMMARY:TOPS Meetings
DESCRIPTION:Room 408
URL:https://www.vinjechurch.com/event/tops-meetings/2025-04-08/
END:VEVENT
BEGIN:VEVENT
DTSTART;TZID=America/Chicago:20250408T100000
DTEND;TZID=America/Chicago:20250408T110000
DTSTAMP:20260425T140144
CREATED:20220119T152439Z
LAST-MODIFIED:20251007T135704Z
UID:10005906-1744106400-1744110000@www.vinjechurch.com
SUMMARY:Men's Bible Study
DESCRIPTION:
URL:https://www.vinjechurch.com/event/mens-bible-study-3/2025-04-08/
END:VEVENT
BEGIN:VEVENT
DTSTART;TZID=America/Chicago:20250409T083000
DTEND;TZID=America/Chicago:20250409T100000
DTSTAMP:20260425T140144
CREATED:20240304T191913Z
LAST-MODIFIED:20250624T162759Z
UID:10007086-1744187400-1744192800@www.vinjechurch.com
SUMMARY:Elizabeth Circle @ Carol Parker's
DESCRIPTION:
URL:https://www.vinjechurch.com/event/elizabeth-circle-carol-parkers-2-2/2025-04-09/
END:VEVENT
BEGIN:VEVENT
DTSTART;TZID=America/Chicago:20250409T153000
DTEND;TZID=America/Chicago:20250409T173000
DTSTAMP:20260425T140144
CREATED:20240813T191411Z
LAST-MODIFIED:20240813T191411Z
UID:10007796-1744212600-1744219800@www.vinjechurch.com
SUMMARY:Wednesday Live!
DESCRIPTION:
URL:https://www.vinjechurch.com/event/wednesday-live-3/2025-04-09/
END:VEVENT
END:VCALENDAR