BEGIN:VCALENDAR
VERSION:2.0
PRODID:-//Vinje Lutheran Church - ECPv6.15.20//NONSGML v1.0//EN
CALSCALE:GREGORIAN
METHOD:PUBLISH
X-WR-CALNAME:Vinje Lutheran Church
X-ORIGINAL-URL:https://www.vinjechurch.com
X-WR-CALDESC:Events for Vinje Lutheran Church
REFRESH-INTERVAL;VALUE=DURATION:PT1H
X-Robots-Tag:noindex
X-PUBLISHED-TTL:PT1H
BEGIN:VTIMEZONE
TZID:America/Chicago
BEGIN:DAYLIGHT
TZOFFSETFROM:-0600
TZOFFSETTO:-0500
TZNAME:CDT
DTSTART:20180311T080000
END:DAYLIGHT
BEGIN:STANDARD
TZOFFSETFROM:-0500
TZOFFSETTO:-0600
TZNAME:CST
DTSTART:20181104T070000
END:STANDARD
BEGIN:DAYLIGHT
TZOFFSETFROM:-0600
TZOFFSETTO:-0500
TZNAME:CDT
DTSTART:20190310T080000
END:DAYLIGHT
BEGIN:STANDARD
TZOFFSETFROM:-0500
TZOFFSETTO:-0600
TZNAME:CST
DTSTART:20191103T070000
END:STANDARD
BEGIN:DAYLIGHT
TZOFFSETFROM:-0600
TZOFFSETTO:-0500
TZNAME:CDT
DTSTART:20200308T080000
END:DAYLIGHT
BEGIN:STANDARD
TZOFFSETFROM:-0500
TZOFFSETTO:-0600
TZNAME:CST
DTSTART:20201101T070000
END:STANDARD
END:VTIMEZONE
BEGIN:VEVENT
DTSTART;TZID=America/Chicago:20190805T130000
DTEND;TZID=America/Chicago:20190805T130000
DTSTAMP:20260421T040244
CREATED:20190918T115739Z
LAST-MODIFIED:20200911T143332Z
UID:10003136-1565010000-1565010000@www.vinjechurch.com
SUMMARY:Staff Meeting - in Courtyard
DESCRIPTION:
URL:https://www.vinjechurch.com/event/staff-meeting/2019-08-05/
END:VEVENT
BEGIN:VEVENT
DTSTART;TZID=America/Chicago:20190806T130000
DTEND;TZID=America/Chicago:20190806T130000
DTSTAMP:20260421T040244
CREATED:20190918T115739Z
LAST-MODIFIED:20200911T143332Z
UID:10003137-1565096400-1565096400@www.vinjechurch.com
SUMMARY:Staff Meeting - in Courtyard
DESCRIPTION:
URL:https://www.vinjechurch.com/event/staff-meeting/2019-08-06/
END:VEVENT
BEGIN:VEVENT
DTSTART;TZID=America/Chicago:20190813T130000
DTEND;TZID=America/Chicago:20190813T130000
DTSTAMP:20260421T040244
CREATED:20190918T115739Z
LAST-MODIFIED:20200911T143332Z
UID:10003138-1565701200-1565701200@www.vinjechurch.com
SUMMARY:Staff Meeting - in Courtyard
DESCRIPTION:
URL:https://www.vinjechurch.com/event/staff-meeting/2019-08-13/
END:VEVENT
BEGIN:VEVENT
DTSTART;TZID=America/Chicago:20190814T130000
DTEND;TZID=America/Chicago:20190814T150000
DTSTAMP:20260421T040244
CREATED:20190725T190225Z
LAST-MODIFIED:20190725T190225Z
UID:10003021-1565787600-1565794800@www.vinjechurch.com
SUMMARY:Philomena - Vinje Theater
DESCRIPTION:What better way to spend a hot summer day than in a cool movie theatre. And this summer Vinje has you covered. Of course no movie would be the same without popcorn and we’ve got that covered! Bring a beverage and join us!
URL:https://www.vinjechurch.com/event/philomena-vinje-theater/
END:VEVENT
BEGIN:VEVENT
DTSTART;TZID=America/Chicago:20190819T090000
DTEND;TZID=America/Chicago:20190819T170000
DTSTAMP:20260421T040244
CREATED:20190725T190356Z
LAST-MODIFIED:20190725T190356Z
UID:10003022-1566205200-1566234000@www.vinjechurch.com
SUMMARY:Arboretum Trip
DESCRIPTION:Admission is free. There will be a fee to cover transportation. \nSign up in the church office by August 9th.
URL:https://www.vinjechurch.com/event/arboretum-trip/
END:VEVENT
BEGIN:VEVENT
DTSTART;TZID=America/Chicago:20190819T173000
DTEND;TZID=America/Chicago:20190819T173000
DTSTAMP:20260421T040244
CREATED:20190918T115931Z
LAST-MODIFIED:20200804T145358Z
UID:10003818-1566235800-1566235800@www.vinjechurch.com
SUMMARY:Youth Committee
DESCRIPTION:
URL:https://www.vinjechurch.com/event/youth-committee/2019-08-19/
END:VEVENT
BEGIN:VEVENT
DTSTART;TZID=America/Chicago:20190820T130000
DTEND;TZID=America/Chicago:20190820T130000
DTSTAMP:20260421T040244
CREATED:20190918T115739Z
LAST-MODIFIED:20200911T143332Z
UID:10003139-1566306000-1566306000@www.vinjechurch.com
SUMMARY:Staff Meeting - in Courtyard
DESCRIPTION:
URL:https://www.vinjechurch.com/event/staff-meeting/2019-08-20/
END:VEVENT
BEGIN:VEVENT
DTSTART;TZID=America/Chicago:20190827T130000
DTEND;TZID=America/Chicago:20190827T130000
DTSTAMP:20260421T040244
CREATED:20190918T115739Z
LAST-MODIFIED:20200911T143332Z
UID:10003140-1566910800-1566910800@www.vinjechurch.com
SUMMARY:Staff Meeting - in Courtyard
DESCRIPTION:
URL:https://www.vinjechurch.com/event/staff-meeting/2019-08-27/
END:VEVENT
BEGIN:VEVENT
DTSTART;TZID=America/Chicago:20190901T093000
DTEND;TZID=America/Chicago:20190901T093000
DTSTAMP:20260421T040244
CREATED:20190918T115723Z
LAST-MODIFIED:20200514T192740Z
UID:10003023-1567330200-1567330200@www.vinjechurch.com
SUMMARY:Worship - on line and radio only
DESCRIPTION:
URL:https://www.vinjechurch.com/event/worship/2019-09-01/
END:VEVENT
BEGIN:VEVENT
DTSTART;TZID=America/Chicago:20190902T000000
DTEND;TZID=America/Chicago:20190902T000000
DTSTAMP:20260421T040244
CREATED:20190918T115729Z
LAST-MODIFIED:20190918T115729Z
UID:10003078-1567382400-1567382400@www.vinjechurch.com
SUMMARY:Church Office & Loving Arms Closed-Labor Day
DESCRIPTION:
URL:https://www.vinjechurch.com/event/church-office-loving-arms-closed-labor-day/
END:VEVENT
BEGIN:VEVENT
DTSTART;TZID=America/Chicago:20190903T091500
DTEND;TZID=America/Chicago:20190903T091500
DTSTAMP:20260421T040244
CREATED:20190918T115735Z
LAST-MODIFIED:20190919T161821Z
UID:10003079-1567502100-1567502100@www.vinjechurch.com
SUMMARY:Loving Arms Chapel
DESCRIPTION:
URL:https://www.vinjechurch.com/event/loving-arms-chapel/2019-09-03/
END:VEVENT
BEGIN:VEVENT
DTSTART;TZID=America/Chicago:20190903T120000
DTEND;TZID=America/Chicago:20190903T120000
DTSTAMP:20260421T040244
CREATED:20190919T162549Z
LAST-MODIFIED:20190919T162554Z
UID:10002936-1567512000-1567512000@www.vinjechurch.com
SUMMARY:Stewardship Meeting
DESCRIPTION:
URL:https://www.vinjechurch.com/event/stewardship-meeting/
END:VEVENT
BEGIN:VEVENT
DTSTART;TZID=America/Chicago:20190903T130000
DTEND;TZID=America/Chicago:20190903T130000
DTSTAMP:20260421T040244
CREATED:20190918T115739Z
LAST-MODIFIED:20200911T143332Z
UID:10003141-1567515600-1567515600@www.vinjechurch.com
SUMMARY:Staff Meeting - in Courtyard
DESCRIPTION:
URL:https://www.vinjechurch.com/event/staff-meeting/2019-09-03/
END:VEVENT
BEGIN:VEVENT
DTSTART;TZID=America/Chicago:20190903T140000
DTEND;TZID=America/Chicago:20190903T160000
DTSTAMP:20260421T040244
CREATED:20190918T115744Z
LAST-MODIFIED:20200916T185630Z
UID:10003202-1567519200-1567526400@www.vinjechurch.com
SUMMARY:Naomi & Sarah Circle - at Vinje Parking Lot
DESCRIPTION:
URL:https://www.vinjechurch.com/event/naomi-sarah-circle-heritage-room/2019-09-03/
END:VEVENT
BEGIN:VEVENT
DTSTART;TZID=America/Chicago:20190905T080000
DTEND;TZID=America/Chicago:20190905T080000
DTSTAMP:20260421T040244
CREATED:20190918T115751Z
LAST-MODIFIED:20200615T200714Z
UID:10003213-1567670400-1567670400@www.vinjechurch.com
SUMMARY:Elizabeth Circle @ Carol Parker's
DESCRIPTION:
URL:https://www.vinjechurch.com/event/elizabeth-circle-carol-parkers/2019-09-05/
END:VEVENT
BEGIN:VEVENT
DTSTART;TZID=America/Chicago:20190905T090000
DTEND;TZID=America/Chicago:20190905T090000
DTSTAMP:20260421T040244
CREATED:20190918T115755Z
LAST-MODIFIED:20200514T193839Z
UID:10003223-1567674000-1567674000@www.vinjechurch.com
SUMMARY:Vinje Quilters
DESCRIPTION:
URL:https://www.vinjechurch.com/event/vinje-quilters/2019-09-05/
END:VEVENT
BEGIN:VEVENT
DTSTART;TZID=America/Chicago:20190905T093000
DTEND;TZID=America/Chicago:20190905T093000
DTSTAMP:20260421T040244
CREATED:20190918T115758Z
LAST-MODIFIED:20200615T201109Z
UID:10003230-1567675800-1567675800@www.vinjechurch.com
SUMMARY:Esther Circle
DESCRIPTION:
URL:https://www.vinjechurch.com/event/esther-circle/2019-09-05/
LOCATION:Fran Green’s
END:VEVENT
BEGIN:VEVENT
DTSTART;TZID=America/Chicago:20190905T130000
DTEND;TZID=America/Chicago:20190905T140000
DTSTAMP:20260421T040244
CREATED:20190918T115801Z
LAST-MODIFIED:20190920T185833Z
UID:10003240-1567688400-1567692000@www.vinjechurch.com
SUMMARY:Caregivers Support Group
DESCRIPTION:
URL:https://www.vinjechurch.com/event/caregivers-support-group/2019-09-05/
END:VEVENT
BEGIN:VEVENT
DTSTART;VALUE=DATE:20190906
DTEND;VALUE=DATE:20190907
DTSTAMP:20260421T040244
CREATED:20200129T150456Z
LAST-MODIFIED:20220428T190649Z
UID:10004530-1567728000-1567814399@www.vinjechurch.com
SUMMARY:Pastor Dane Skilbred - Sabbath
DESCRIPTION:
URL:https://www.vinjechurch.com/event/pastor-dane-skilbred-sabbath-2/
END:VEVENT
BEGIN:VEVENT
DTSTART;VALUE=DATE:20190906
DTEND;VALUE=DATE:20190907
DTSTAMP:20260421T040244
CREATED:20200129T150256Z
LAST-MODIFIED:20220428T190150Z
UID:10004515-1567728000-1567814399@www.vinjechurch.com
SUMMARY:Pastor Justin Ask - Sabbath
DESCRIPTION:
URL:https://www.vinjechurch.com/event/pastor-justin-ask-sabbath-2/
END:VEVENT
BEGIN:VEVENT
DTSTART;TZID=America/Chicago:20190906T160000
DTEND;TZID=America/Chicago:20190906T160000
DTSTAMP:20260421T040244
CREATED:20190919T162556Z
LAST-MODIFIED:20190919T162556Z
UID:10002938-1567785600-1567785600@www.vinjechurch.com
SUMMARY:Wedding Rehearsal
DESCRIPTION:
URL:https://www.vinjechurch.com/event/wedding-rehearsal-2/
END:VEVENT
BEGIN:VEVENT
DTSTART;TZID=America/Chicago:20190906T160000
DTEND;TZID=America/Chicago:20190906T160000
DTSTAMP:20260421T040244
CREATED:20190919T162555Z
LAST-MODIFIED:20190919T162555Z
UID:10002937-1567785600-1567785600@www.vinjechurch.com
SUMMARY:Wedding Rehearsal
DESCRIPTION:
URL:https://www.vinjechurch.com/event/wedding-rehearsal/
END:VEVENT
BEGIN:VEVENT
DTSTART;TZID=America/Chicago:20190906T210000
DTEND;TZID=America/Chicago:20190906T210000
DTSTAMP:20260421T040244
CREATED:20190919T162605Z
LAST-MODIFIED:20190919T162605Z
UID:10002942-1567803600-1567803600@www.vinjechurch.com
SUMMARY:5th Quarter - Middle School
DESCRIPTION:
URL:https://www.vinjechurch.com/event/5th-quarter-middle-school-2/
END:VEVENT
BEGIN:VEVENT
DTSTART;TZID=America/Chicago:20190906T210000
DTEND;TZID=America/Chicago:20190906T230000
DTSTAMP:20260421T040244
CREATED:20190919T162604Z
LAST-MODIFIED:20190920T190101Z
UID:10002939-1567803600-1567810800@www.vinjechurch.com
SUMMARY:5th Quarter - Middle School
DESCRIPTION:
URL:https://www.vinjechurch.com/event/5th-quarter-middle-school/2019-09-06/
END:VEVENT
BEGIN:VEVENT
DTSTART;TZID=America/Chicago:20190907T000000
DTEND;TZID=America/Chicago:20190907T000000
DTSTAMP:20260421T040244
CREATED:20190919T162613Z
LAST-MODIFIED:20190919T162613Z
UID:10002943-1567814400-1567814400@www.vinjechurch.com
SUMMARY:Wedding - Emali Jacobsen & Andrew Montminy
DESCRIPTION:
URL:https://www.vinjechurch.com/event/wedding-emali-jacobsen-andrew-montminy/
END:VEVENT
BEGIN:VEVENT
DTSTART;TZID=America/Chicago:20190908T000000
DTEND;TZID=America/Chicago:20190908T000000
DTSTAMP:20260421T040244
CREATED:20190918T115823Z
LAST-MODIFIED:20190919T152901Z
UID:10003478-1567900800-1567900800@www.vinjechurch.com
SUMMARY:Family Promise @ Vinje
DESCRIPTION:
URL:https://www.vinjechurch.com/event/family-promise-vinje/2019-09-08/
END:VEVENT
BEGIN:VEVENT
DTSTART;TZID=America/Chicago:20190908T081500
DTEND;TZID=America/Chicago:20190908T083000
DTSTAMP:20260421T040244
CREATED:20190918T115827Z
LAST-MODIFIED:20200205T172326Z
UID:10003487-1567930500-1567931400@www.vinjechurch.com
SUMMARY:Vinje Choir Rehearsal
DESCRIPTION:
URL:https://www.vinjechurch.com/event/vinje-choir-rehearsal/
END:VEVENT
BEGIN:VEVENT
DTSTART;TZID=America/Chicago:20190908T093000
DTEND;TZID=America/Chicago:20190908T093000
DTSTAMP:20260421T040244
CREATED:20190918T115723Z
LAST-MODIFIED:20200514T192740Z
UID:10003024-1567935000-1567935000@www.vinjechurch.com
SUMMARY:Worship - on line and radio only
DESCRIPTION:
URL:https://www.vinjechurch.com/event/worship/2019-09-08/
END:VEVENT
BEGIN:VEVENT
DTSTART;TZID=America/Chicago:20190908T103000
DTEND;TZID=America/Chicago:20190908T103000
DTSTAMP:20260421T040244
CREATED:20190919T162623Z
LAST-MODIFIED:20190919T162623Z
UID:10002945-1567938600-1567938600@www.vinjechurch.com
SUMMARY:God's Work Our Hands Project
DESCRIPTION:
URL:https://www.vinjechurch.com/event/gods-work-our-hands-project/
END:VEVENT
BEGIN:VEVENT
DTSTART;TZID=America/Chicago:20190908T103000
DTEND;TZID=America/Chicago:20190908T103000
DTSTAMP:20260421T040244
CREATED:20190919T162623Z
LAST-MODIFIED:20190919T162623Z
UID:10002946-1567938600-1567938600@www.vinjechurch.com
SUMMARY:God's Work Our Hands Project
DESCRIPTION:
URL:https://www.vinjechurch.com/event/gods-work-our-hands-project/
END:VEVENT
END:VCALENDAR