BEGIN:VCALENDAR
VERSION:2.0
PRODID:-//Vinje Lutheran Church - ECPv6.15.20//NONSGML v1.0//EN
CALSCALE:GREGORIAN
METHOD:PUBLISH
X-WR-CALNAME:Vinje Lutheran Church
X-ORIGINAL-URL:https://www.vinjechurch.com
X-WR-CALDESC:Events for Vinje Lutheran Church
REFRESH-INTERVAL;VALUE=DURATION:PT1H
X-Robots-Tag:noindex
X-PUBLISHED-TTL:PT1H
BEGIN:VTIMEZONE
TZID:America/Chicago
BEGIN:DAYLIGHT
TZOFFSETFROM:-0600
TZOFFSETTO:-0500
TZNAME:CDT
DTSTART:20230312T080000
END:DAYLIGHT
BEGIN:STANDARD
TZOFFSETFROM:-0500
TZOFFSETTO:-0600
TZNAME:CST
DTSTART:20231105T070000
END:STANDARD
BEGIN:DAYLIGHT
TZOFFSETFROM:-0600
TZOFFSETTO:-0500
TZNAME:CDT
DTSTART:20240310T080000
END:DAYLIGHT
BEGIN:STANDARD
TZOFFSETFROM:-0500
TZOFFSETTO:-0600
TZNAME:CST
DTSTART:20241103T070000
END:STANDARD
BEGIN:DAYLIGHT
TZOFFSETFROM:-0600
TZOFFSETTO:-0500
TZNAME:CDT
DTSTART:20250309T080000
END:DAYLIGHT
BEGIN:STANDARD
TZOFFSETFROM:-0500
TZOFFSETTO:-0600
TZNAME:CST
DTSTART:20251102T070000
END:STANDARD
END:VTIMEZONE
BEGIN:VEVENT
DTSTART;TZID=America/Chicago:20240209T150000
DTEND;TZID=America/Chicago:20240209T183000
DTSTAMP:20260424T101412
CREATED:20240103T164735Z
LAST-MODIFIED:20240103T164735Z
UID:10006830-1707490800-1707503400@www.vinjechurch.com
SUMMARY:Boys Swim Team  Supper
DESCRIPTION:
URL:https://www.vinjechurch.com/event/boys-swim-team-supper-2/
END:VEVENT
BEGIN:VEVENT
DTSTART;TZID=America/Chicago:20240211T093000
DTEND;TZID=America/Chicago:20240211T103000
DTSTAMP:20260424T101412
CREATED:20210310T175710Z
LAST-MODIFIED:20250210T154557Z
UID:10004882-1707643800-1707647400@www.vinjechurch.com
SUMMARY:Worship
DESCRIPTION:
URL:https://www.vinjechurch.com/event/worship-in-person/2024-02-11/
END:VEVENT
BEGIN:VEVENT
DTSTART;TZID=America/Chicago:20240212T123000
DTEND;TZID=America/Chicago:20240212T133000
DTSTAMP:20260424T101412
CREATED:20240108T163755Z
LAST-MODIFIED:20240115T180809Z
UID:10006843-1707741000-1707744600@www.vinjechurch.com
SUMMARY:Women's Bible Study
DESCRIPTION:Gathering Space
URL:https://www.vinjechurch.com/event/womens-bible-study-2/2024-02-12/
END:VEVENT
BEGIN:VEVENT
DTSTART;TZID=America/Chicago:20240212T180000
DTEND;TZID=America/Chicago:20240212T190000
DTSTAMP:20260424T101412
CREATED:20240205T163532Z
LAST-MODIFIED:20240417T135936Z
UID:10006992-1707760800-1707764400@www.vinjechurch.com
SUMMARY:Bell Choir Practice
DESCRIPTION:sanctuary
URL:https://www.vinjechurch.com/event/bell-choir-practice-3/2024-02-12/
END:VEVENT
BEGIN:VEVENT
DTSTART;TZID=America/Chicago:20240213T100000
DTEND;TZID=America/Chicago:20240213T110000
DTSTAMP:20260424T101412
CREATED:20220119T152439Z
LAST-MODIFIED:20251007T135704Z
UID:10005465-1707818400-1707822000@www.vinjechurch.com
SUMMARY:Men's Bible Study
DESCRIPTION:
URL:https://www.vinjechurch.com/event/mens-bible-study-3/2024-02-13/
END:VEVENT
BEGIN:VEVENT
DTSTART;TZID=America/Chicago:20240213T160000
DTEND;TZID=America/Chicago:20240213T180000
DTSTAMP:20260424T101412
CREATED:20240116T181249Z
LAST-MODIFIED:20240116T181249Z
UID:10006987-1707840000-1707847200@www.vinjechurch.com
SUMMARY:Diamond Edge Figure Skating Photos
DESCRIPTION:gathering space \n8th street photo to set up around noon.
URL:https://www.vinjechurch.com/event/diamond-edge-figure-skating-photos-2/
END:VEVENT
BEGIN:VEVENT
DTSTART;TZID=America/Chicago:20240214T153000
DTEND;TZID=America/Chicago:20240214T173000
DTSTAMP:20260424T101412
CREATED:20230829T170630Z
LAST-MODIFIED:20230919T190343Z
UID:10006023-1707924600-1707931800@www.vinjechurch.com
SUMMARY:Wednesday Live!
DESCRIPTION:
URL:https://www.vinjechurch.com/event/wednesday-live-2/2024-02-14/
END:VEVENT
BEGIN:VEVENT
DTSTART;TZID=America/Chicago:20240214T170000
DTEND;TZID=America/Chicago:20240214T180000
DTSTAMP:20260424T101412
CREATED:20230829T170825Z
LAST-MODIFIED:20240213T164932Z
UID:10006056-1707930000-1707933600@www.vinjechurch.com
SUMMARY:Supper
DESCRIPTION:
URL:https://www.vinjechurch.com/event/supper-3/2024-02-14/
END:VEVENT
BEGIN:VEVENT
DTSTART;TZID=America/Chicago:20240214T172500
DTEND;TZID=America/Chicago:20240214T180000
DTSTAMP:20260424T101412
CREATED:20230829T171357Z
LAST-MODIFIED:20230829T171357Z
UID:10006089-1707931500-1707933600@www.vinjechurch.com
SUMMARY:Nova/Shalom
DESCRIPTION:
URL:https://www.vinjechurch.com/event/nova-shalom/2024-02-14/
END:VEVENT
BEGIN:VEVENT
DTSTART;TZID=America/Chicago:20240214T180000
DTEND;TZID=America/Chicago:20240214T190000
DTSTAMP:20260424T101412
CREATED:20230830T145308Z
LAST-MODIFIED:20230830T145308Z
UID:10006177-1707933600-1707937200@www.vinjechurch.com
SUMMARY:Ash Wednesday Worship
DESCRIPTION:
URL:https://www.vinjechurch.com/event/ash-wednesday-worship-2/
END:VEVENT
BEGIN:VEVENT
DTSTART;TZID=America/Chicago:20240214T180000
DTEND;TZID=America/Chicago:20240214T200000
DTSTAMP:20260424T101413
CREATED:20230829T171841Z
LAST-MODIFIED:20230829T171841Z
UID:10006154-1707933600-1707940800@www.vinjechurch.com
SUMMARY:Confirmation
DESCRIPTION:
URL:https://www.vinjechurch.com/event/confirmation-6/2024-02-14/
END:VEVENT
BEGIN:VEVENT
DTSTART;TZID=America/Chicago:20240215T180000
DTEND;TZID=America/Chicago:20240215T200000
DTSTAMP:20260424T101413
CREATED:20210721T190950Z
LAST-MODIFIED:20251218T182945Z
UID:10004977-1708020000-1708027200@www.vinjechurch.com
SUMMARY:AIM People First
DESCRIPTION:Fellowship Hall \n  \n 
URL:https://www.vinjechurch.com/event/aim-people-first/2024-02-15/
END:VEVENT
BEGIN:VEVENT
DTSTART;TZID=America/Chicago:20240215T183000
DTEND;TZID=America/Chicago:20240215T193000
DTSTAMP:20260424T101413
CREATED:20210825T160824Z
LAST-MODIFIED:20251216T142151Z
UID:10017325-1708021800-1708025400@www.vinjechurch.com
SUMMARY:Blue Star Mother's
DESCRIPTION:Heritage Room
URL:https://www.vinjechurch.com/event/blue-star-mothers/2024-02-15/
END:VEVENT
BEGIN:VEVENT
DTSTART;TZID=America/Chicago:20240217T113000
DTEND;TZID=America/Chicago:20240217T123000
DTSTAMP:20260424T101413
CREATED:20231220T185808Z
LAST-MODIFIED:20231220T185808Z
UID:10006825-1708169400-1708173000@www.vinjechurch.com
SUMMARY:Don Handahl Funeral
DESCRIPTION:Visitation 1030
URL:https://www.vinjechurch.com/event/don-handahl-funeral/
END:VEVENT
BEGIN:VEVENT
DTSTART;TZID=America/Chicago:20240218T093000
DTEND;TZID=America/Chicago:20240218T103000
DTSTAMP:20260424T101413
CREATED:20210310T175710Z
LAST-MODIFIED:20250210T154557Z
UID:10004883-1708248600-1708252200@www.vinjechurch.com
SUMMARY:Worship
DESCRIPTION:
URL:https://www.vinjechurch.com/event/worship-in-person/2024-02-18/
END:VEVENT
BEGIN:VEVENT
DTSTART;VALUE=DATE:20240219
DTEND;VALUE=DATE:20240220
DTSTAMP:20260424T101413
CREATED:20200129T145148Z
LAST-MODIFIED:20200129T145148Z
UID:10004512-1708300800-1708387199@www.vinjechurch.com
SUMMARY:President's Day-Church Office Closed
DESCRIPTION:
URL:https://www.vinjechurch.com/event/presidents-day-church-office-closed/2024-02-19/
END:VEVENT
BEGIN:VEVENT
DTSTART;TZID=America/Chicago:20240219T080000
DTEND;TZID=America/Chicago:20240219T170000
DTSTAMP:20260424T101413
CREATED:20240108T155442Z
LAST-MODIFIED:20240108T155442Z
UID:10006834-1708329600-1708362000@www.vinjechurch.com
SUMMARY:Daycare Teacher Training
DESCRIPTION:fellowship hall
URL:https://www.vinjechurch.com/event/daycare-teacher-training/
END:VEVENT
BEGIN:VEVENT
DTSTART;TZID=America/Chicago:20240219T180000
DTEND;TZID=America/Chicago:20240219T190000
DTSTAMP:20260424T101413
CREATED:20240205T163532Z
LAST-MODIFIED:20240417T135936Z
UID:10006993-1708365600-1708369200@www.vinjechurch.com
SUMMARY:Bell Choir Practice
DESCRIPTION:sanctuary
URL:https://www.vinjechurch.com/event/bell-choir-practice-3/2024-02-19/
END:VEVENT
BEGIN:VEVENT
DTSTART;TZID=America/Chicago:20240220T100000
DTEND;TZID=America/Chicago:20240220T110000
DTSTAMP:20260424T101413
CREATED:20220119T152439Z
LAST-MODIFIED:20251007T135704Z
UID:10005466-1708423200-1708426800@www.vinjechurch.com
SUMMARY:Men's Bible Study
DESCRIPTION:
URL:https://www.vinjechurch.com/event/mens-bible-study-3/2024-02-20/
END:VEVENT
BEGIN:VEVENT
DTSTART;TZID=America/Chicago:20240220T170000
DTEND;TZID=America/Chicago:20240220T190000
DTSTAMP:20260424T101413
CREATED:20231130T185321Z
LAST-MODIFIED:20231130T185321Z
UID:10006710-1708448400-1708455600@www.vinjechurch.com
SUMMARY:Loving Arms Board Meeting
DESCRIPTION:
URL:https://www.vinjechurch.com/event/loving-arms-board-meeting/2024-02-20/
END:VEVENT
BEGIN:VEVENT
DTSTART;TZID=America/Chicago:20240221T153000
DTEND;TZID=America/Chicago:20240221T173000
DTSTAMP:20260424T101413
CREATED:20230829T170630Z
LAST-MODIFIED:20230919T190343Z
UID:10006024-1708529400-1708536600@www.vinjechurch.com
SUMMARY:Wednesday Live!
DESCRIPTION:
URL:https://www.vinjechurch.com/event/wednesday-live-2/2024-02-21/
END:VEVENT
BEGIN:VEVENT
DTSTART;TZID=America/Chicago:20240221T170000
DTEND;TZID=America/Chicago:20240221T180000
DTSTAMP:20260424T101413
CREATED:20230829T170825Z
LAST-MODIFIED:20240213T164932Z
UID:10006057-1708534800-1708538400@www.vinjechurch.com
SUMMARY:Supper
DESCRIPTION:
URL:https://www.vinjechurch.com/event/supper-3/2024-02-21/
END:VEVENT
BEGIN:VEVENT
DTSTART;TZID=America/Chicago:20240221T172500
DTEND;TZID=America/Chicago:20240221T180000
DTSTAMP:20260424T101413
CREATED:20230829T171357Z
LAST-MODIFIED:20230829T171357Z
UID:10006090-1708536300-1708538400@www.vinjechurch.com
SUMMARY:Nova/Shalom
DESCRIPTION:
URL:https://www.vinjechurch.com/event/nova-shalom/2024-02-21/
END:VEVENT
BEGIN:VEVENT
DTSTART;TZID=America/Chicago:20240221T180000
DTEND;TZID=America/Chicago:20240221T190000
DTSTAMP:20260424T101413
CREATED:20230829T171712Z
LAST-MODIFIED:20240213T165120Z
UID:10006122-1708538400-1708542000@www.vinjechurch.com
SUMMARY:Worship
DESCRIPTION:
URL:https://www.vinjechurch.com/event/worship-9/2024-02-21/
END:VEVENT
BEGIN:VEVENT
DTSTART;TZID=America/Chicago:20240221T180000
DTEND;TZID=America/Chicago:20240221T200000
DTSTAMP:20260424T101413
CREATED:20230829T171841Z
LAST-MODIFIED:20230829T171841Z
UID:10006155-1708538400-1708545600@www.vinjechurch.com
SUMMARY:Confirmation
DESCRIPTION:
URL:https://www.vinjechurch.com/event/confirmation-6/2024-02-21/
END:VEVENT
BEGIN:VEVENT
DTSTART;TZID=America/Chicago:20240225T093000
DTEND;TZID=America/Chicago:20240225T103000
DTSTAMP:20260424T101413
CREATED:20210310T175710Z
LAST-MODIFIED:20250210T154557Z
UID:10004884-1708853400-1708857000@www.vinjechurch.com
SUMMARY:Worship
DESCRIPTION:
URL:https://www.vinjechurch.com/event/worship-in-person/2024-02-25/
END:VEVENT
BEGIN:VEVENT
DTSTART;TZID=America/Chicago:20240226T123000
DTEND;TZID=America/Chicago:20240226T133000
DTSTAMP:20260424T101413
CREATED:20240108T163755Z
LAST-MODIFIED:20240115T180809Z
UID:10006845-1708950600-1708954200@www.vinjechurch.com
SUMMARY:Women's Bible Study
DESCRIPTION:Gathering Space
URL:https://www.vinjechurch.com/event/womens-bible-study-2/2024-02-26/
END:VEVENT
BEGIN:VEVENT
DTSTART;TZID=America/Chicago:20240226T180000
DTEND;TZID=America/Chicago:20240226T190000
DTSTAMP:20260424T101413
CREATED:20240205T163532Z
LAST-MODIFIED:20240417T135936Z
UID:10006994-1708970400-1708974000@www.vinjechurch.com
SUMMARY:Bell Choir Practice
DESCRIPTION:sanctuary
URL:https://www.vinjechurch.com/event/bell-choir-practice-3/2024-02-26/
END:VEVENT
BEGIN:VEVENT
DTSTART;TZID=America/Chicago:20240226T190000
DTEND;TZID=America/Chicago:20240226T200000
DTSTAMP:20260424T101413
CREATED:20231009T154852Z
LAST-MODIFIED:20250429T192707Z
UID:10006634-1708974000-1708977600@www.vinjechurch.com
SUMMARY:Church Council Meeting
DESCRIPTION:
URL:https://www.vinjechurch.com/event/church-council-meeting-2/2024-02-26/
END:VEVENT
BEGIN:VEVENT
DTSTART;TZID=America/Chicago:20240227T100000
DTEND;TZID=America/Chicago:20240227T110000
DTSTAMP:20260424T101413
CREATED:20220119T152439Z
LAST-MODIFIED:20251007T135704Z
UID:10005467-1709028000-1709031600@www.vinjechurch.com
SUMMARY:Men's Bible Study
DESCRIPTION:
URL:https://www.vinjechurch.com/event/mens-bible-study-3/2024-02-27/
END:VEVENT
END:VCALENDAR