BEGIN:VCALENDAR
VERSION:2.0
PRODID:-//Vinje Lutheran Church - ECPv6.15.20//NONSGML v1.0//EN
CALSCALE:GREGORIAN
METHOD:PUBLISH
X-WR-CALNAME:Vinje Lutheran Church
X-ORIGINAL-URL:https://www.vinjechurch.com
X-WR-CALDESC:Events for Vinje Lutheran Church
REFRESH-INTERVAL;VALUE=DURATION:PT1H
X-Robots-Tag:noindex
X-PUBLISHED-TTL:PT1H
BEGIN:VTIMEZONE
TZID:America/Chicago
BEGIN:DAYLIGHT
TZOFFSETFROM:-0600
TZOFFSETTO:-0500
TZNAME:CDT
DTSTART:20240310T080000
END:DAYLIGHT
BEGIN:STANDARD
TZOFFSETFROM:-0500
TZOFFSETTO:-0600
TZNAME:CST
DTSTART:20241103T070000
END:STANDARD
BEGIN:DAYLIGHT
TZOFFSETFROM:-0600
TZOFFSETTO:-0500
TZNAME:CDT
DTSTART:20250309T080000
END:DAYLIGHT
BEGIN:STANDARD
TZOFFSETFROM:-0500
TZOFFSETTO:-0600
TZNAME:CST
DTSTART:20251102T070000
END:STANDARD
BEGIN:DAYLIGHT
TZOFFSETFROM:-0600
TZOFFSETTO:-0500
TZNAME:CDT
DTSTART:20260308T080000
END:DAYLIGHT
BEGIN:STANDARD
TZOFFSETFROM:-0500
TZOFFSETTO:-0600
TZNAME:CST
DTSTART:20261101T070000
END:STANDARD
END:VTIMEZONE
BEGIN:VEVENT
DTSTART;TZID=America/Chicago:20250205T184500
DTEND;TZID=America/Chicago:20250205T194500
DTSTAMP:20260421T115721
CREATED:20241219T180235Z
LAST-MODIFIED:20241219T180235Z
UID:10008211-1738781100-1738784700@www.vinjechurch.com
SUMMARY:Annual Meeting
DESCRIPTION:following worship
URL:https://www.vinjechurch.com/event/annual-meeting-6/
END:VEVENT
BEGIN:VEVENT
DTSTART;TZID=America/Chicago:20250209T093000
DTEND;TZID=America/Chicago:20250209T103000
DTSTAMP:20260421T115721
CREATED:20210310T175710Z
LAST-MODIFIED:20250210T154557Z
UID:10005880-1739093400-1739097000@www.vinjechurch.com
SUMMARY:Worship
DESCRIPTION:
URL:https://www.vinjechurch.com/event/worship-in-person/2025-02-09/
END:VEVENT
BEGIN:VEVENT
DTSTART;TZID=America/Chicago:20250210T123000
DTEND;TZID=America/Chicago:20250210T133000
DTSTAMP:20260421T115721
CREATED:20240918T161734Z
LAST-MODIFIED:20250331T184532Z
UID:10008003-1739190600-1739194200@www.vinjechurch.com
SUMMARY:Women's Bible Study
DESCRIPTION:Heritage Room
URL:https://www.vinjechurch.com/event/womens-bible-study-5/2025-02-10/
END:VEVENT
BEGIN:VEVENT
DTSTART;TZID=America/Chicago:20250211T090000
DTEND;TZID=America/Chicago:20250211T110000
DTSTAMP:20260421T115721
CREATED:20240423T161314Z
LAST-MODIFIED:20241210T161206Z
UID:10007279-1739264400-1739271600@www.vinjechurch.com
SUMMARY:TOPS Meetings
DESCRIPTION:Room 408
URL:https://www.vinjechurch.com/event/tops-meetings/2025-02-11/
END:VEVENT
BEGIN:VEVENT
DTSTART;TZID=America/Chicago:20250211T100000
DTEND;TZID=America/Chicago:20250211T110000
DTSTAMP:20260421T115721
CREATED:20220119T152439Z
LAST-MODIFIED:20251007T135704Z
UID:10005898-1739268000-1739271600@www.vinjechurch.com
SUMMARY:Men's Bible Study
DESCRIPTION:
URL:https://www.vinjechurch.com/event/mens-bible-study-3/2025-02-11/
END:VEVENT
BEGIN:VEVENT
DTSTART;TZID=America/Chicago:20250211T183000
DTEND;TZID=America/Chicago:20250211T193000
DTSTAMP:20260421T115721
CREATED:20250121T175416Z
LAST-MODIFIED:20250121T175416Z
UID:10008289-1739298600-1739302200@www.vinjechurch.com
SUMMARY:Solar Light Project
DESCRIPTION:fellowship hall
URL:https://www.vinjechurch.com/event/solar-light-project-2/
END:VEVENT
BEGIN:VEVENT
DTSTART;TZID=America/Chicago:20250212T083000
DTEND;TZID=America/Chicago:20250212T220000
DTSTAMP:20260421T115721
CREATED:20250203T174742Z
LAST-MODIFIED:20250203T174742Z
UID:10008298-1739349000-1739397600@www.vinjechurch.com
SUMMARY:Elizabeth Circle @ Vinje
DESCRIPTION:Heritage room
URL:https://www.vinjechurch.com/event/elizabeth-circle-vinje-2/
END:VEVENT
BEGIN:VEVENT
DTSTART;TZID=America/Chicago:20250212T153000
DTEND;TZID=America/Chicago:20250212T173000
DTSTAMP:20260421T115721
CREATED:20240813T191411Z
LAST-MODIFIED:20240813T191411Z
UID:10007789-1739374200-1739381400@www.vinjechurch.com
SUMMARY:Wednesday Live!
DESCRIPTION:
URL:https://www.vinjechurch.com/event/wednesday-live-3/2025-02-12/
END:VEVENT
BEGIN:VEVENT
DTSTART;TZID=America/Chicago:20250212T170000
DTEND;TZID=America/Chicago:20250212T180000
DTSTAMP:20260421T115721
CREATED:20240813T191533Z
LAST-MODIFIED:20250219T172409Z
UID:10007820-1739379600-1739383200@www.vinjechurch.com
SUMMARY:Supper
DESCRIPTION:
URL:https://www.vinjechurch.com/event/supper-4/2025-02-12/
END:VEVENT
BEGIN:VEVENT
DTSTART;TZID=America/Chicago:20250212T172500
DTEND;TZID=America/Chicago:20250212T180000
DTSTAMP:20260421T115721
CREATED:20240813T191700Z
LAST-MODIFIED:20250219T172446Z
UID:10007851-1739381100-1739383200@www.vinjechurch.com
SUMMARY:Nova/Shalom
DESCRIPTION:
URL:https://www.vinjechurch.com/event/nova-shalom-2/2025-02-12/
END:VEVENT
BEGIN:VEVENT
DTSTART;TZID=America/Chicago:20250212T180000
DTEND;TZID=America/Chicago:20250212T190000
DTSTAMP:20260421T115721
CREATED:20240813T191814Z
LAST-MODIFIED:20250219T172308Z
UID:10007882-1739383200-1739386800@www.vinjechurch.com
SUMMARY:Worship
DESCRIPTION:
URL:https://www.vinjechurch.com/event/worship-10/2025-02-12/
END:VEVENT
BEGIN:VEVENT
DTSTART;TZID=America/Chicago:20250212T180000
DTEND;TZID=America/Chicago:20250212T200000
DTSTAMP:20260421T115721
CREATED:20240813T191919Z
LAST-MODIFIED:20250219T172231Z
UID:10007914-1739383200-1739390400@www.vinjechurch.com
SUMMARY:Confirmation
DESCRIPTION:
URL:https://www.vinjechurch.com/event/confirmation-7/2025-02-12/
END:VEVENT
BEGIN:VEVENT
DTSTART;TZID=America/Chicago:20250216T093000
DTEND;TZID=America/Chicago:20250216T103000
DTSTAMP:20260421T115721
CREATED:20210310T175710Z
LAST-MODIFIED:20250210T154557Z
UID:10005881-1739698200-1739701800@www.vinjechurch.com
SUMMARY:Worship
DESCRIPTION:
URL:https://www.vinjechurch.com/event/worship-in-person/2025-02-16/
END:VEVENT
BEGIN:VEVENT
DTSTART;VALUE=DATE:20250217
DTEND;VALUE=DATE:20250218
DTSTAMP:20260421T115721
CREATED:20240918T162412Z
LAST-MODIFIED:20240918T162626Z
UID:10008010-1739750400-1739836799@www.vinjechurch.com
SUMMARY:Office Closed- Presidents' Day
DESCRIPTION:
URL:https://www.vinjechurch.com/event/office-closed-7/
END:VEVENT
BEGIN:VEVENT
DTSTART;TZID=America/Chicago:20250217T183000
DTEND;TZID=America/Chicago:20250217T193000
DTSTAMP:20260421T115721
CREATED:20250130T165413Z
LAST-MODIFIED:20250130T165413Z
UID:10008290-1739817000-1739820600@www.vinjechurch.com
SUMMARY:Women\, Wine & the Word
DESCRIPTION:Crystal Lenz place
URL:https://www.vinjechurch.com/event/women-wine-the-word-11/
END:VEVENT
BEGIN:VEVENT
DTSTART;TZID=America/Chicago:20250218T090000
DTEND;TZID=America/Chicago:20250218T110000
DTSTAMP:20260421T115721
CREATED:20240423T161314Z
LAST-MODIFIED:20241210T161206Z
UID:10007280-1739869200-1739876400@www.vinjechurch.com
SUMMARY:TOPS Meetings
DESCRIPTION:Room 408
URL:https://www.vinjechurch.com/event/tops-meetings/2025-02-18/
END:VEVENT
BEGIN:VEVENT
DTSTART;TZID=America/Chicago:20250218T100000
DTEND;TZID=America/Chicago:20250218T110000
DTSTAMP:20260421T115721
CREATED:20220119T152439Z
LAST-MODIFIED:20251007T135704Z
UID:10005899-1739872800-1739876400@www.vinjechurch.com
SUMMARY:Men's Bible Study
DESCRIPTION:
URL:https://www.vinjechurch.com/event/mens-bible-study-3/2025-02-18/
END:VEVENT
BEGIN:VEVENT
DTSTART;TZID=America/Chicago:20250218T110000
DTEND;TZID=America/Chicago:20250218T120000
DTSTAMP:20260421T115721
CREATED:20241223T155402Z
LAST-MODIFIED:20241223T155402Z
UID:10008212-1739876400-1739880000@www.vinjechurch.com
SUMMARY:DeAnna Skilbred's Funeral
DESCRIPTION:visitation 1 hr prior
URL:https://www.vinjechurch.com/event/deanna-skilbreds-funeral/
END:VEVENT
BEGIN:VEVENT
DTSTART;TZID=America/Chicago:20250219T153000
DTEND;TZID=America/Chicago:20250219T173000
DTSTAMP:20260421T115721
CREATED:20240813T191411Z
LAST-MODIFIED:20240813T191411Z
UID:10007790-1739979000-1739986200@www.vinjechurch.com
SUMMARY:Wednesday Live!
DESCRIPTION:
URL:https://www.vinjechurch.com/event/wednesday-live-3/2025-02-19/
END:VEVENT
BEGIN:VEVENT
DTSTART;TZID=America/Chicago:20250220T180000
DTEND;TZID=America/Chicago:20250220T200000
DTSTAMP:20260421T115721
CREATED:20210721T190950Z
LAST-MODIFIED:20251218T182945Z
UID:10005867-1740074400-1740081600@www.vinjechurch.com
SUMMARY:AIM People First
DESCRIPTION:Fellowship Hall \n  \n 
URL:https://www.vinjechurch.com/event/aim-people-first/2025-02-20/
END:VEVENT
BEGIN:VEVENT
DTSTART;TZID=America/Chicago:20250220T183000
DTEND;TZID=America/Chicago:20250220T193000
DTSTAMP:20260421T115721
CREATED:20210825T160824Z
LAST-MODIFIED:20251216T142151Z
UID:10017336-1740076200-1740079800@www.vinjechurch.com
SUMMARY:Blue Star Mother's
DESCRIPTION:Heritage Room
URL:https://www.vinjechurch.com/event/blue-star-mothers/2025-02-20/
END:VEVENT
BEGIN:VEVENT
DTSTART;TZID=America/Chicago:20250223T093000
DTEND;TZID=America/Chicago:20250223T103000
DTSTAMP:20260421T115721
CREATED:20210310T175710Z
LAST-MODIFIED:20250210T154557Z
UID:10005882-1740303000-1740306600@www.vinjechurch.com
SUMMARY:Worship
DESCRIPTION:
URL:https://www.vinjechurch.com/event/worship-in-person/2025-02-23/
END:VEVENT
BEGIN:VEVENT
DTSTART;TZID=America/Chicago:20250223T163000
DTEND;TZID=America/Chicago:20250223T200000
DTSTAMP:20260421T115721
CREATED:20250204T203201Z
LAST-MODIFIED:20250204T203201Z
UID:10008299-1740328200-1740340800@www.vinjechurch.com
SUMMARY:Conference Assembly
DESCRIPTION:Fellowship hall \nSanctuary
URL:https://www.vinjechurch.com/event/conference-assembly/
END:VEVENT
BEGIN:VEVENT
DTSTART;TZID=America/Chicago:20250224T123000
DTEND;TZID=America/Chicago:20250224T133000
DTSTAMP:20260421T115721
CREATED:20240918T161734Z
LAST-MODIFIED:20250331T184532Z
UID:10008004-1740400200-1740403800@www.vinjechurch.com
SUMMARY:Women's Bible Study
DESCRIPTION:Heritage Room
URL:https://www.vinjechurch.com/event/womens-bible-study-5/2025-02-24/
END:VEVENT
BEGIN:VEVENT
DTSTART;TZID=America/Chicago:20250224T170000
DTEND;TZID=America/Chicago:20250224T180000
DTSTAMP:20260421T115721
CREATED:20250116T162521Z
LAST-MODIFIED:20250429T192605Z
UID:10008224-1740416400-1740420000@www.vinjechurch.com
SUMMARY:Loving Arms Board Meeting
DESCRIPTION:
URL:https://www.vinjechurch.com/event/loving-arms-board-meeting-2/2025-02-24/
END:VEVENT
BEGIN:VEVENT
DTSTART;TZID=America/Chicago:20250224T190000
DTEND;TZID=America/Chicago:20250224T200000
DTSTAMP:20260421T115721
CREATED:20231009T154852Z
LAST-MODIFIED:20250429T192707Z
UID:10006646-1740423600-1740427200@www.vinjechurch.com
SUMMARY:Church Council Meeting
DESCRIPTION:
URL:https://www.vinjechurch.com/event/church-council-meeting-2/2025-02-24/
END:VEVENT
BEGIN:VEVENT
DTSTART;TZID=America/Chicago:20250225T090000
DTEND;TZID=America/Chicago:20250225T110000
DTSTAMP:20260421T115721
CREATED:20240423T161314Z
LAST-MODIFIED:20241210T161206Z
UID:10007281-1740474000-1740481200@www.vinjechurch.com
SUMMARY:TOPS Meetings
DESCRIPTION:Room 408
URL:https://www.vinjechurch.com/event/tops-meetings/2025-02-25/
END:VEVENT
BEGIN:VEVENT
DTSTART;TZID=America/Chicago:20250225T100000
DTEND;TZID=America/Chicago:20250225T110000
DTSTAMP:20260421T115721
CREATED:20220119T152439Z
LAST-MODIFIED:20251007T135704Z
UID:10005900-1740477600-1740481200@www.vinjechurch.com
SUMMARY:Men's Bible Study
DESCRIPTION:
URL:https://www.vinjechurch.com/event/mens-bible-study-3/2025-02-25/
END:VEVENT
BEGIN:VEVENT
DTSTART;TZID=America/Chicago:20250225T170000
DTEND;TZID=America/Chicago:20250225T210000
DTSTAMP:20260421T115721
CREATED:20250130T165455Z
LAST-MODIFIED:20250130T165455Z
UID:10008291-1740502800-1740517200@www.vinjechurch.com
SUMMARY:Cardette Booster Banquet
DESCRIPTION:fellowship hall
URL:https://www.vinjechurch.com/event/cardette-booster-banquet/
END:VEVENT
BEGIN:VEVENT
DTSTART;TZID=America/Chicago:20250226T153000
DTEND;TZID=America/Chicago:20250226T173000
DTSTAMP:20260421T115721
CREATED:20240813T191411Z
LAST-MODIFIED:20240813T191411Z
UID:10007791-1740583800-1740591000@www.vinjechurch.com
SUMMARY:Wednesday Live!
DESCRIPTION:
URL:https://www.vinjechurch.com/event/wednesday-live-3/2025-02-26/
END:VEVENT
END:VCALENDAR