BEGIN:VCALENDAR
VERSION:2.0
PRODID:-//Vinje Lutheran Church - ECPv6.15.20//NONSGML v1.0//EN
CALSCALE:GREGORIAN
METHOD:PUBLISH
X-WR-CALNAME:Vinje Lutheran Church
X-ORIGINAL-URL:https://www.vinjechurch.com
X-WR-CALDESC:Events for Vinje Lutheran Church
REFRESH-INTERVAL;VALUE=DURATION:PT1H
X-Robots-Tag:noindex
X-PUBLISHED-TTL:PT1H
BEGIN:VTIMEZONE
TZID:America/Chicago
BEGIN:DAYLIGHT
TZOFFSETFROM:-0600
TZOFFSETTO:-0500
TZNAME:CDT
DTSTART:20240310T080000
END:DAYLIGHT
BEGIN:STANDARD
TZOFFSETFROM:-0500
TZOFFSETTO:-0600
TZNAME:CST
DTSTART:20241103T070000
END:STANDARD
BEGIN:DAYLIGHT
TZOFFSETFROM:-0600
TZOFFSETTO:-0500
TZNAME:CDT
DTSTART:20250309T080000
END:DAYLIGHT
BEGIN:STANDARD
TZOFFSETFROM:-0500
TZOFFSETTO:-0600
TZNAME:CST
DTSTART:20251102T070000
END:STANDARD
BEGIN:DAYLIGHT
TZOFFSETFROM:-0600
TZOFFSETTO:-0500
TZNAME:CDT
DTSTART:20260308T080000
END:DAYLIGHT
BEGIN:STANDARD
TZOFFSETFROM:-0500
TZOFFSETTO:-0600
TZNAME:CST
DTSTART:20261101T070000
END:STANDARD
END:VTIMEZONE
BEGIN:VEVENT
DTSTART;TZID=America/Chicago:20250226T180000
DTEND;TZID=America/Chicago:20250226T200000
DTSTAMP:20260421T121220
CREATED:20240813T191919Z
LAST-MODIFIED:20250219T172231Z
UID:10007916-1740592800-1740600000@www.vinjechurch.com
SUMMARY:Confirmation
DESCRIPTION:
URL:https://www.vinjechurch.com/event/confirmation-7/2025-02-26/
END:VEVENT
BEGIN:VEVENT
DTSTART;TZID=America/Chicago:20250228T170000
DTEND;TZID=America/Chicago:20250228T183000
DTSTAMP:20260421T121220
CREATED:20250106T145242Z
LAST-MODIFIED:20250106T145242Z
UID:10008215-1740762000-1740767400@www.vinjechurch.com
SUMMARY:WHS Boys' Swimming Dinner
DESCRIPTION:kitchen (noon) \nfellowship
URL:https://www.vinjechurch.com/event/whs-boys-swimming-dinner-2/
END:VEVENT
BEGIN:VEVENT
DTSTART;TZID=America/Chicago:20250302T083000
DTEND;TZID=America/Chicago:20250302T093000
DTSTAMP:20260421T121220
CREATED:20241101T150415Z
LAST-MODIFIED:20241226T143654Z
UID:10008090-1740904200-1740907800@www.vinjechurch.com
SUMMARY:Early Childhood Sunday School
DESCRIPTION:
URL:https://www.vinjechurch.com/event/early-childhood-sunday-school/2025-03-02/
END:VEVENT
BEGIN:VEVENT
DTSTART;TZID=America/Chicago:20250302T093000
DTEND;TZID=America/Chicago:20250302T103000
DTSTAMP:20260421T121220
CREATED:20210310T175710Z
LAST-MODIFIED:20250210T154557Z
UID:10005883-1740907800-1740911400@www.vinjechurch.com
SUMMARY:Worship
DESCRIPTION:
URL:https://www.vinjechurch.com/event/worship-in-person/2025-03-02/
END:VEVENT
BEGIN:VEVENT
DTSTART;TZID=America/Chicago:20250303T123000
DTEND;TZID=America/Chicago:20250303T133000
DTSTAMP:20260421T121220
CREATED:20240918T161734Z
LAST-MODIFIED:20250331T184532Z
UID:10008005-1741005000-1741008600@www.vinjechurch.com
SUMMARY:Women's Bible Study
DESCRIPTION:Heritage Room
URL:https://www.vinjechurch.com/event/womens-bible-study-5/2025-03-03/
END:VEVENT
BEGIN:VEVENT
DTSTART;TZID=America/Chicago:20250304T090000
DTEND;TZID=America/Chicago:20250304T110000
DTSTAMP:20260421T121220
CREATED:20240423T161314Z
LAST-MODIFIED:20241210T161206Z
UID:10007282-1741078800-1741086000@www.vinjechurch.com
SUMMARY:TOPS Meetings
DESCRIPTION:Room 408
URL:https://www.vinjechurch.com/event/tops-meetings/2025-03-04/
END:VEVENT
BEGIN:VEVENT
DTSTART;TZID=America/Chicago:20250304T100000
DTEND;TZID=America/Chicago:20250304T110000
DTSTAMP:20260421T121220
CREATED:20220119T152439Z
LAST-MODIFIED:20251007T135704Z
UID:10005901-1741082400-1741086000@www.vinjechurch.com
SUMMARY:Men's Bible Study
DESCRIPTION:
URL:https://www.vinjechurch.com/event/mens-bible-study-3/2025-03-04/
END:VEVENT
BEGIN:VEVENT
DTSTART;TZID=America/Chicago:20250304T140000
DTEND;TZID=America/Chicago:20250304T160000
DTSTAMP:20260421T121220
CREATED:20220630T171105Z
LAST-MODIFIED:20251008T141827Z
UID:10005914-1741096800-1741104000@www.vinjechurch.com
SUMMARY:Ruth Circle
DESCRIPTION:Heritage Room
URL:https://www.vinjechurch.com/event/naomi-sarah-circle-3/2025-03-04/
END:VEVENT
BEGIN:VEVENT
DTSTART;TZID=America/Chicago:20250305T153000
DTEND;TZID=America/Chicago:20250305T173000
DTSTAMP:20260421T121220
CREATED:20240813T191411Z
LAST-MODIFIED:20240813T191411Z
UID:10007792-1741188600-1741195800@www.vinjechurch.com
SUMMARY:Wednesday Live!
DESCRIPTION:
URL:https://www.vinjechurch.com/event/wednesday-live-3/2025-03-05/
END:VEVENT
BEGIN:VEVENT
DTSTART;TZID=America/Chicago:20250305T170000
DTEND;TZID=America/Chicago:20250305T180000
DTSTAMP:20260421T121220
CREATED:20240813T191533Z
LAST-MODIFIED:20250219T172409Z
UID:10007823-1741194000-1741197600@www.vinjechurch.com
SUMMARY:Supper
DESCRIPTION:
URL:https://www.vinjechurch.com/event/supper-4/2025-03-05/
END:VEVENT
BEGIN:VEVENT
DTSTART;TZID=America/Chicago:20250305T172500
DTEND;TZID=America/Chicago:20250305T180000
DTSTAMP:20260421T121220
CREATED:20240813T191700Z
LAST-MODIFIED:20250219T172446Z
UID:10007854-1741195500-1741197600@www.vinjechurch.com
SUMMARY:Nova/Shalom
DESCRIPTION:
URL:https://www.vinjechurch.com/event/nova-shalom-2/2025-03-05/
END:VEVENT
BEGIN:VEVENT
DTSTART;TZID=America/Chicago:20250305T180000
DTEND;TZID=America/Chicago:20250305T190000
DTSTAMP:20260421T121220
CREATED:20250210T153948Z
LAST-MODIFIED:20250210T153948Z
UID:10008300-1741197600-1741201200@www.vinjechurch.com
SUMMARY:Ash Wednesday Worship
DESCRIPTION:
URL:https://www.vinjechurch.com/event/ash-wednesday-worship-3/
END:VEVENT
BEGIN:VEVENT
DTSTART;TZID=America/Chicago:20250305T180000
DTEND;TZID=America/Chicago:20250305T200000
DTSTAMP:20260421T121220
CREATED:20240813T191919Z
LAST-MODIFIED:20250219T172231Z
UID:10007917-1741197600-1741204800@www.vinjechurch.com
SUMMARY:Confirmation
DESCRIPTION:
URL:https://www.vinjechurch.com/event/confirmation-7/2025-03-05/
END:VEVENT
BEGIN:VEVENT
DTSTART;TZID=America/Chicago:20250309T093000
DTEND;TZID=America/Chicago:20250309T103000
DTSTAMP:20260421T121220
CREATED:20210310T175710Z
LAST-MODIFIED:20250210T154557Z
UID:10005884-1741512600-1741516200@www.vinjechurch.com
SUMMARY:Worship
DESCRIPTION:
URL:https://www.vinjechurch.com/event/worship-in-person/2025-03-09/
END:VEVENT
BEGIN:VEVENT
DTSTART;TZID=America/Chicago:20250310T123000
DTEND;TZID=America/Chicago:20250310T133000
DTSTAMP:20260421T121220
CREATED:20240918T161734Z
LAST-MODIFIED:20250331T184532Z
UID:10008006-1741609800-1741613400@www.vinjechurch.com
SUMMARY:Women's Bible Study
DESCRIPTION:Heritage Room
URL:https://www.vinjechurch.com/event/womens-bible-study-5/2025-03-10/
END:VEVENT
BEGIN:VEVENT
DTSTART;TZID=America/Chicago:20250310T133000
DTEND;TZID=America/Chicago:20250310T143000
DTSTAMP:20260421T121220
CREATED:20240903T165047Z
LAST-MODIFIED:20240903T165047Z
UID:10007930-1741613400-1741617000@www.vinjechurch.com
SUMMARY:School Evacuation to Vinje Church
DESCRIPTION:
URL:https://www.vinjechurch.com/event/school-evacuation-to-vinje-church/
END:VEVENT
BEGIN:VEVENT
DTSTART;TZID=America/Chicago:20250311T090000
DTEND;TZID=America/Chicago:20250311T110000
DTSTAMP:20260421T121220
CREATED:20240423T161314Z
LAST-MODIFIED:20241210T161206Z
UID:10007283-1741683600-1741690800@www.vinjechurch.com
SUMMARY:TOPS Meetings
DESCRIPTION:Room 408
URL:https://www.vinjechurch.com/event/tops-meetings/2025-03-11/
END:VEVENT
BEGIN:VEVENT
DTSTART;TZID=America/Chicago:20250311T100000
DTEND;TZID=America/Chicago:20250311T110000
DTSTAMP:20260421T121220
CREATED:20220119T152439Z
LAST-MODIFIED:20251007T135704Z
UID:10005902-1741687200-1741690800@www.vinjechurch.com
SUMMARY:Men's Bible Study
DESCRIPTION:
URL:https://www.vinjechurch.com/event/mens-bible-study-3/2025-03-11/
END:VEVENT
BEGIN:VEVENT
DTSTART;TZID=America/Chicago:20250312T083000
DTEND;TZID=America/Chicago:20250312T100000
DTSTAMP:20260421T121220
CREATED:20240304T191913Z
LAST-MODIFIED:20250624T162759Z
UID:10007085-1741768200-1741773600@www.vinjechurch.com
SUMMARY:Elizabeth Circle @ Carol Parker's
DESCRIPTION:
URL:https://www.vinjechurch.com/event/elizabeth-circle-carol-parkers-2-2/2025-03-12/
END:VEVENT
BEGIN:VEVENT
DTSTART;TZID=America/Chicago:20250312T153000
DTEND;TZID=America/Chicago:20250312T173000
DTSTAMP:20260421T121220
CREATED:20240813T191411Z
LAST-MODIFIED:20240813T191411Z
UID:10007793-1741793400-1741800600@www.vinjechurch.com
SUMMARY:Wednesday Live!
DESCRIPTION:
URL:https://www.vinjechurch.com/event/wednesday-live-3/2025-03-12/
END:VEVENT
BEGIN:VEVENT
DTSTART;TZID=America/Chicago:20250312T170000
DTEND;TZID=America/Chicago:20250312T180000
DTSTAMP:20260421T121220
CREATED:20240813T191533Z
LAST-MODIFIED:20250219T172409Z
UID:10007824-1741798800-1741802400@www.vinjechurch.com
SUMMARY:Supper
DESCRIPTION:
URL:https://www.vinjechurch.com/event/supper-4/2025-03-12/
END:VEVENT
BEGIN:VEVENT
DTSTART;TZID=America/Chicago:20250312T172500
DTEND;TZID=America/Chicago:20250312T180000
DTSTAMP:20260421T121220
CREATED:20240813T191700Z
LAST-MODIFIED:20250219T172446Z
UID:10007855-1741800300-1741802400@www.vinjechurch.com
SUMMARY:Nova/Shalom
DESCRIPTION:
URL:https://www.vinjechurch.com/event/nova-shalom-2/2025-03-12/
END:VEVENT
BEGIN:VEVENT
DTSTART;TZID=America/Chicago:20250312T180000
DTEND;TZID=America/Chicago:20250312T190000
DTSTAMP:20260421T121220
CREATED:20240813T191814Z
LAST-MODIFIED:20250219T172308Z
UID:10007886-1741802400-1741806000@www.vinjechurch.com
SUMMARY:Worship
DESCRIPTION:
URL:https://www.vinjechurch.com/event/worship-10/2025-03-12/
END:VEVENT
BEGIN:VEVENT
DTSTART;TZID=America/Chicago:20250312T180000
DTEND;TZID=America/Chicago:20250312T200000
DTSTAMP:20260421T121220
CREATED:20240813T191919Z
LAST-MODIFIED:20250219T172231Z
UID:10007918-1741802400-1741809600@www.vinjechurch.com
SUMMARY:Confirmation
DESCRIPTION:
URL:https://www.vinjechurch.com/event/confirmation-7/2025-03-12/
END:VEVENT
BEGIN:VEVENT
DTSTART;TZID=America/Chicago:20250313T090000
DTEND;TZID=America/Chicago:20250313T120000
DTSTAMP:20260421T121220
CREATED:20240411T160957Z
LAST-MODIFIED:20250319T163751Z
UID:10007231-1741856400-1741867200@www.vinjechurch.com
SUMMARY:Vinje Quilters
DESCRIPTION:
URL:https://www.vinjechurch.com/event/vinje-quilters-15/2025-03-13/
END:VEVENT
BEGIN:VEVENT
DTSTART;TZID=America/Chicago:20250316T093000
DTEND;TZID=America/Chicago:20250316T103000
DTSTAMP:20260421T121220
CREATED:20210310T175710Z
LAST-MODIFIED:20250210T154557Z
UID:10005885-1742117400-1742121000@www.vinjechurch.com
SUMMARY:Worship
DESCRIPTION:
URL:https://www.vinjechurch.com/event/worship-in-person/2025-03-16/
END:VEVENT
BEGIN:VEVENT
DTSTART;TZID=America/Chicago:20250316T103000
DTEND;TZID=America/Chicago:20250316T140000
DTSTAMP:20260421T121220
CREATED:20250130T180221Z
LAST-MODIFIED:20250130T180221Z
UID:10008292-1742121000-1742133600@www.vinjechurch.com
SUMMARY:Ella Odens Baptism Party
DESCRIPTION:Rm 102
URL:https://www.vinjechurch.com/event/ella-odens-baptism-party/
END:VEVENT
BEGIN:VEVENT
DTSTART;TZID=America/Chicago:20250317T123000
DTEND;TZID=America/Chicago:20250317T133000
DTSTAMP:20260421T121220
CREATED:20240918T161734Z
LAST-MODIFIED:20250331T184532Z
UID:10008007-1742214600-1742218200@www.vinjechurch.com
SUMMARY:Women's Bible Study
DESCRIPTION:Heritage Room
URL:https://www.vinjechurch.com/event/womens-bible-study-5/2025-03-17/
END:VEVENT
BEGIN:VEVENT
DTSTART;TZID=America/Chicago:20250318T090000
DTEND;TZID=America/Chicago:20250318T110000
DTSTAMP:20260421T121220
CREATED:20240423T161314Z
LAST-MODIFIED:20241210T161206Z
UID:10007284-1742288400-1742295600@www.vinjechurch.com
SUMMARY:TOPS Meetings
DESCRIPTION:Room 408
URL:https://www.vinjechurch.com/event/tops-meetings/2025-03-18/
END:VEVENT
BEGIN:VEVENT
DTSTART;TZID=America/Chicago:20250318T100000
DTEND;TZID=America/Chicago:20250318T110000
DTSTAMP:20260421T121220
CREATED:20220119T152439Z
LAST-MODIFIED:20251007T135704Z
UID:10005903-1742292000-1742295600@www.vinjechurch.com
SUMMARY:Men's Bible Study
DESCRIPTION:
URL:https://www.vinjechurch.com/event/mens-bible-study-3/2025-03-18/
END:VEVENT
END:VCALENDAR