BEGIN:VCALENDAR
VERSION:2.0
PRODID:-//Vinje Lutheran Church - ECPv6.15.20//NONSGML v1.0//EN
CALSCALE:GREGORIAN
METHOD:PUBLISH
X-ORIGINAL-URL:https://www.vinjechurch.com
X-WR-CALDESC:Events for Vinje Lutheran Church
REFRESH-INTERVAL;VALUE=DURATION:PT1H
X-Robots-Tag:noindex
X-PUBLISHED-TTL:PT1H
BEGIN:VTIMEZONE
TZID:America/Chicago
BEGIN:DAYLIGHT
TZOFFSETFROM:-0600
TZOFFSETTO:-0500
TZNAME:CDT
DTSTART:20250309T080000
END:DAYLIGHT
BEGIN:STANDARD
TZOFFSETFROM:-0500
TZOFFSETTO:-0600
TZNAME:CST
DTSTART:20251102T070000
END:STANDARD
BEGIN:DAYLIGHT
TZOFFSETFROM:-0600
TZOFFSETTO:-0500
TZNAME:CDT
DTSTART:20260308T080000
END:DAYLIGHT
BEGIN:STANDARD
TZOFFSETFROM:-0500
TZOFFSETTO:-0600
TZNAME:CST
DTSTART:20261101T070000
END:STANDARD
BEGIN:DAYLIGHT
TZOFFSETFROM:-0600
TZOFFSETTO:-0500
TZNAME:CDT
DTSTART:20270314T080000
END:DAYLIGHT
BEGIN:STANDARD
TZOFFSETFROM:-0500
TZOFFSETTO:-0600
TZNAME:CST
DTSTART:20271107T070000
END:STANDARD
END:VTIMEZONE
BEGIN:VEVENT
DTSTART;TZID=America/Chicago:20260308T092500
DTEND;TZID=America/Chicago:20260308T094500
DTSTAMP:20260425T220222
CREATED:20250925T151558Z
LAST-MODIFIED:20250925T151558Z
UID:10016852-1772961900-1772963100@www.vinjechurch.com
SUMMARY:Kids Time Sunday
DESCRIPTION:Library
URL:https://www.vinjechurch.com/event/kids-time-sunday/2026-03-08/
END:VEVENT
BEGIN:VEVENT
DTSTART;TZID=America/Chicago:20260305T190000
DTEND;TZID=America/Chicago:20260305T220000
DTSTAMP:20260425T220222
CREATED:20250508T171814Z
LAST-MODIFIED:20260112T181000Z
UID:10008491-1772737200-1772748000@www.vinjechurch.com
SUMMARY:Mision Reg Bible Study
DESCRIPTION:Rm 102 Sept-May \nTheater June- Aug
URL:https://www.vinjechurch.com/event/mision-reg/2026-03-05/
END:VEVENT
BEGIN:VEVENT
DTSTART;TZID=America/Chicago:20260304T180000
DTEND;TZID=America/Chicago:20260304T200000
DTSTAMP:20260425T220222
CREATED:20250811T170918Z
LAST-MODIFIED:20250811T170918Z
UID:10016667-1772647200-1772654400@www.vinjechurch.com
SUMMARY:Confirmation
DESCRIPTION:
URL:https://www.vinjechurch.com/event/confirmation-8/2026-03-04/
END:VEVENT
BEGIN:VEVENT
DTSTART;TZID=America/Chicago:20260304T180000
DTEND;TZID=America/Chicago:20260304T190000
DTSTAMP:20260425T220222
CREATED:20250811T170550Z
LAST-MODIFIED:20250811T170550Z
UID:10016636-1772647200-1772650800@www.vinjechurch.com
SUMMARY:Wednesday Worship
DESCRIPTION:
URL:https://www.vinjechurch.com/event/wednesday-worship/2026-03-04/
END:VEVENT
BEGIN:VEVENT
DTSTART;TZID=America/Chicago:20260304T172500
DTEND;TZID=America/Chicago:20260304T180000
DTSTAMP:20260425T220222
CREATED:20250811T170421Z
LAST-MODIFIED:20250811T170421Z
UID:10016606-1772645100-1772647200@www.vinjechurch.com
SUMMARY:Nova/Shalom
DESCRIPTION:
URL:https://www.vinjechurch.com/event/nova-shalom-3/2026-03-04/
END:VEVENT
BEGIN:VEVENT
DTSTART;TZID=America/Chicago:20260304T170000
DTEND;TZID=America/Chicago:20260304T180000
DTSTAMP:20260425T220222
CREATED:20250811T170251Z
LAST-MODIFIED:20250811T170251Z
UID:10016576-1772643600-1772647200@www.vinjechurch.com
SUMMARY:Supper
DESCRIPTION:
URL:https://www.vinjechurch.com/event/supper-5/2026-03-04/
END:VEVENT
BEGIN:VEVENT
DTSTART;TZID=America/Chicago:20260304T163000
DTEND;TZID=America/Chicago:20260304T173000
DTSTAMP:20260425T220222
CREATED:20250903T134511Z
LAST-MODIFIED:20250916T170012Z
UID:10016751-1772641800-1772645400@www.vinjechurch.com
SUMMARY:Wednesday Live Pre-K
DESCRIPTION:Library
URL:https://www.vinjechurch.com/event/wed-live-pre-k/2026-03-04/
END:VEVENT
BEGIN:VEVENT
DTSTART;TZID=America/Chicago:20260304T153000
DTEND;TZID=America/Chicago:20260304T173000
DTSTAMP:20260425T220222
CREATED:20250811T170119Z
LAST-MODIFIED:20250811T170119Z
UID:10016546-1772638200-1772645400@www.vinjechurch.com
SUMMARY:Wednesday Live!
DESCRIPTION:
URL:https://www.vinjechurch.com/event/wednesday-live-4/2026-03-04/
END:VEVENT
BEGIN:VEVENT
DTSTART;TZID=America/Chicago:20260303T140000
DTEND;TZID=America/Chicago:20260303T160000
DTSTAMP:20260425T220222
CREATED:20220630T171105Z
LAST-MODIFIED:20251008T141827Z
UID:10005950-1772546400-1772553600@www.vinjechurch.com
SUMMARY:Ruth Circle
DESCRIPTION:Heritage Room
URL:https://www.vinjechurch.com/event/naomi-sarah-circle-3/2026-03-03/
END:VEVENT
BEGIN:VEVENT
DTSTART;TZID=America/Chicago:20260303T100000
DTEND;TZID=America/Chicago:20260303T110000
DTSTAMP:20260425T220222
CREATED:20220119T152439Z
LAST-MODIFIED:20251007T135704Z
UID:10006453-1772532000-1772535600@www.vinjechurch.com
SUMMARY:Men's Bible Study
DESCRIPTION:
URL:https://www.vinjechurch.com/event/mens-bible-study-3/2026-03-03/
END:VEVENT
BEGIN:VEVENT
DTSTART;TZID=America/Chicago:20260303T090000
DTEND;TZID=America/Chicago:20260303T110000
DTSTAMP:20260425T220222
CREATED:20240423T161314Z
LAST-MODIFIED:20241210T161206Z
UID:10007334-1772528400-1772535600@www.vinjechurch.com
SUMMARY:TOPS Meetings
DESCRIPTION:Room 408
URL:https://www.vinjechurch.com/event/tops-meetings/2026-03-03/
END:VEVENT
BEGIN:VEVENT
DTSTART;TZID=America/Chicago:20260302T181500
DTEND;TZID=America/Chicago:20260302T193000
DTSTAMP:20260425T220222
CREATED:20260203T164037Z
LAST-MODIFIED:20260203T164135Z
UID:10017481-1772475300-1772479800@www.vinjechurch.com
SUMMARY:JuBELLation
DESCRIPTION:sanctuary
URL:https://www.vinjechurch.com/event/jubellation-5/2026-03-02/
END:VEVENT
BEGIN:VEVENT
DTSTART;TZID=America/Chicago:20260302T120000
DTEND;TZID=America/Chicago:20260302T130000
DTSTAMP:20260425T220222
CREATED:20251222T174706Z
LAST-MODIFIED:20260223T192220Z
UID:10017410-1772452800-1772456400@www.vinjechurch.com
SUMMARY:Vinje Women's Bible Study
DESCRIPTION:heritage room
URL:https://www.vinjechurch.com/event/vinje-womens-bible-study-2/2026-03-02/
END:VEVENT
BEGIN:VEVENT
DTSTART;TZID=America/Chicago:20260301T190000
DTEND;TZID=America/Chicago:20260301T220000
DTSTAMP:20260425T220222
CREATED:20250508T171917Z
LAST-MODIFIED:20250508T172112Z
UID:10008647-1772391600-1772402400@www.vinjechurch.com
SUMMARY:Mision Reg Church Service
DESCRIPTION:Sanctuary
URL:https://www.vinjechurch.com/event/mision-reg-worship/2026-03-01/
END:VEVENT
BEGIN:VEVENT
DTSTART;TZID=America/Chicago:20260301T093000
DTEND;TZID=America/Chicago:20260301T103000
DTSTAMP:20260425T220222
CREATED:20210310T175710Z
LAST-MODIFIED:20250210T154557Z
UID:10007582-1772357400-1772361000@www.vinjechurch.com
SUMMARY:Worship
DESCRIPTION:
URL:https://www.vinjechurch.com/event/worship-in-person/2026-03-01/
END:VEVENT
BEGIN:VEVENT
DTSTART;TZID=America/Chicago:20260301T092500
DTEND;TZID=America/Chicago:20260301T094500
DTSTAMP:20260425T220222
CREATED:20250925T151558Z
LAST-MODIFIED:20250925T151558Z
UID:10016851-1772357100-1772358300@www.vinjechurch.com
SUMMARY:Kids Time Sunday
DESCRIPTION:Library
URL:https://www.vinjechurch.com/event/kids-time-sunday/2026-03-01/
END:VEVENT
BEGIN:VEVENT
DTSTART;TZID=America/Chicago:20260226T190000
DTEND;TZID=America/Chicago:20260226T220000
DTSTAMP:20260425T220222
CREATED:20250508T171814Z
LAST-MODIFIED:20260112T181000Z
UID:10008490-1772132400-1772143200@www.vinjechurch.com
SUMMARY:Mision Reg Bible Study
DESCRIPTION:Rm 102 Sept-May \nTheater June- Aug
URL:https://www.vinjechurch.com/event/mision-reg/2026-02-26/
END:VEVENT
BEGIN:VEVENT
DTSTART;TZID=America/Chicago:20260225T180000
DTEND;TZID=America/Chicago:20260225T200000
DTSTAMP:20260425T220222
CREATED:20250811T170918Z
LAST-MODIFIED:20250811T170918Z
UID:10016666-1772042400-1772049600@www.vinjechurch.com
SUMMARY:Confirmation
DESCRIPTION:
URL:https://www.vinjechurch.com/event/confirmation-8/2026-02-25/
END:VEVENT
BEGIN:VEVENT
DTSTART;TZID=America/Chicago:20260225T180000
DTEND;TZID=America/Chicago:20260225T190000
DTSTAMP:20260425T220222
CREATED:20250811T170550Z
LAST-MODIFIED:20250811T170550Z
UID:10016635-1772042400-1772046000@www.vinjechurch.com
SUMMARY:Wednesday Worship
DESCRIPTION:
URL:https://www.vinjechurch.com/event/wednesday-worship/2026-02-25/
END:VEVENT
BEGIN:VEVENT
DTSTART;TZID=America/Chicago:20260225T172500
DTEND;TZID=America/Chicago:20260225T180000
DTSTAMP:20260425T220222
CREATED:20250811T170421Z
LAST-MODIFIED:20250811T170421Z
UID:10016605-1772040300-1772042400@www.vinjechurch.com
SUMMARY:Nova/Shalom
DESCRIPTION:
URL:https://www.vinjechurch.com/event/nova-shalom-3/2026-02-25/
END:VEVENT
BEGIN:VEVENT
DTSTART;TZID=America/Chicago:20260225T170000
DTEND;TZID=America/Chicago:20260225T180000
DTSTAMP:20260425T220222
CREATED:20250811T170251Z
LAST-MODIFIED:20250811T170251Z
UID:10016575-1772038800-1772042400@www.vinjechurch.com
SUMMARY:Supper
DESCRIPTION:
URL:https://www.vinjechurch.com/event/supper-5/2026-02-25/
END:VEVENT
BEGIN:VEVENT
DTSTART;TZID=America/Chicago:20260225T163000
DTEND;TZID=America/Chicago:20260225T173000
DTSTAMP:20260425T220222
CREATED:20250903T134511Z
LAST-MODIFIED:20250916T170012Z
UID:10016750-1772037000-1772040600@www.vinjechurch.com
SUMMARY:Wednesday Live Pre-K
DESCRIPTION:Library
URL:https://www.vinjechurch.com/event/wed-live-pre-k/2026-02-25/
END:VEVENT
BEGIN:VEVENT
DTSTART;TZID=America/Chicago:20260225T153000
DTEND;TZID=America/Chicago:20260225T173000
DTSTAMP:20260425T220222
CREATED:20250811T170119Z
LAST-MODIFIED:20250811T170119Z
UID:10016545-1772033400-1772040600@www.vinjechurch.com
SUMMARY:Wednesday Live!
DESCRIPTION:
URL:https://www.vinjechurch.com/event/wednesday-live-4/2026-02-25/
END:VEVENT
BEGIN:VEVENT
DTSTART;TZID=America/Chicago:20260224T100000
DTEND;TZID=America/Chicago:20260224T110000
DTSTAMP:20260425T220222
CREATED:20220119T152439Z
LAST-MODIFIED:20251007T135704Z
UID:10006452-1771927200-1771930800@www.vinjechurch.com
SUMMARY:Men's Bible Study
DESCRIPTION:
URL:https://www.vinjechurch.com/event/mens-bible-study-3/2026-02-24/
END:VEVENT
BEGIN:VEVENT
DTSTART;TZID=America/Chicago:20260224T090000
DTEND;TZID=America/Chicago:20260224T110000
DTSTAMP:20260425T220222
CREATED:20240423T161314Z
LAST-MODIFIED:20241210T161206Z
UID:10007333-1771923600-1771930800@www.vinjechurch.com
SUMMARY:TOPS Meetings
DESCRIPTION:Room 408
URL:https://www.vinjechurch.com/event/tops-meetings/2026-02-24/
END:VEVENT
BEGIN:VEVENT
DTSTART;TZID=America/Chicago:20260223T190000
DTEND;TZID=America/Chicago:20260223T200000
DTSTAMP:20260425T220222
CREATED:20231009T154852Z
LAST-MODIFIED:20250429T192707Z
UID:10006658-1771873200-1771876800@www.vinjechurch.com
SUMMARY:Church Council Meeting
DESCRIPTION:
URL:https://www.vinjechurch.com/event/church-council-meeting-2/2026-02-23/
END:VEVENT
BEGIN:VEVENT
DTSTART;TZID=America/Chicago:20260223T181500
DTEND;TZID=America/Chicago:20260223T193000
DTSTAMP:20260425T220222
CREATED:20260203T164037Z
LAST-MODIFIED:20260203T164135Z
UID:10017480-1771870500-1771875000@www.vinjechurch.com
SUMMARY:JuBELLation
DESCRIPTION:sanctuary
URL:https://www.vinjechurch.com/event/jubellation-5/2026-02-23/
END:VEVENT
BEGIN:VEVENT
DTSTART;TZID=America/Chicago:20260223T170000
DTEND;TZID=America/Chicago:20260223T180000
DTSTAMP:20260425T220222
CREATED:20250116T162521Z
LAST-MODIFIED:20250429T192605Z
UID:10008236-1771866000-1771869600@www.vinjechurch.com
SUMMARY:Loving Arms Board Meeting
DESCRIPTION:
URL:https://www.vinjechurch.com/event/loving-arms-board-meeting-2/2026-02-23/
END:VEVENT
BEGIN:VEVENT
DTSTART;TZID=America/Chicago:20260223T120000
DTEND;TZID=America/Chicago:20260223T130000
DTSTAMP:20260425T220222
CREATED:20251222T174706Z
LAST-MODIFIED:20260223T192220Z
UID:10017409-1771848000-1771851600@www.vinjechurch.com
SUMMARY:Vinje Women's Bible Study
DESCRIPTION:heritage room
URL:https://www.vinjechurch.com/event/vinje-womens-bible-study-2/2026-02-23/
END:VEVENT
BEGIN:VEVENT
DTSTART;TZID=America/Chicago:20260222T190000
DTEND;TZID=America/Chicago:20260222T220000
DTSTAMP:20260425T220222
CREATED:20250508T171917Z
LAST-MODIFIED:20250508T172112Z
UID:10008646-1771786800-1771797600@www.vinjechurch.com
SUMMARY:Mision Reg Church Service
DESCRIPTION:Sanctuary
URL:https://www.vinjechurch.com/event/mision-reg-worship/2026-02-22/
END:VEVENT
END:VCALENDAR