BEGIN:VCALENDAR
VERSION:2.0
PRODID:-//Vinje Lutheran Church - ECPv6.15.20//NONSGML v1.0//EN
CALSCALE:GREGORIAN
METHOD:PUBLISH
X-WR-CALNAME:Vinje Lutheran Church
X-ORIGINAL-URL:https://www.vinjechurch.com
X-WR-CALDESC:Events for Vinje Lutheran Church
REFRESH-INTERVAL;VALUE=DURATION:PT1H
X-Robots-Tag:noindex
X-PUBLISHED-TTL:PT1H
BEGIN:VTIMEZONE
TZID:America/Chicago
BEGIN:DAYLIGHT
TZOFFSETFROM:-0600
TZOFFSETTO:-0500
TZNAME:CDT
DTSTART:20250309T080000
END:DAYLIGHT
BEGIN:STANDARD
TZOFFSETFROM:-0500
TZOFFSETTO:-0600
TZNAME:CST
DTSTART:20251102T070000
END:STANDARD
BEGIN:DAYLIGHT
TZOFFSETFROM:-0600
TZOFFSETTO:-0500
TZNAME:CDT
DTSTART:20260308T080000
END:DAYLIGHT
BEGIN:STANDARD
TZOFFSETFROM:-0500
TZOFFSETTO:-0600
TZNAME:CST
DTSTART:20261101T070000
END:STANDARD
BEGIN:DAYLIGHT
TZOFFSETFROM:-0600
TZOFFSETTO:-0500
TZNAME:CDT
DTSTART:20270314T080000
END:DAYLIGHT
BEGIN:STANDARD
TZOFFSETFROM:-0500
TZOFFSETTO:-0600
TZNAME:CST
DTSTART:20271107T070000
END:STANDARD
END:VTIMEZONE
BEGIN:VEVENT
DTSTART;TZID=America/Chicago:20260329T084500
DTEND;TZID=America/Chicago:20260329T093000
DTSTAMP:20260425T203959
CREATED:20250925T142746Z
LAST-MODIFIED:20250925T142746Z
UID:10016823-1774773900-1774776600@www.vinjechurch.com
SUMMARY:Early Childhood Family Sunday School
DESCRIPTION:rm 102 \nages birth-3yr
URL:https://www.vinjechurch.com/event/early-childhood-family-sunday-school-3/
END:VEVENT
BEGIN:VEVENT
DTSTART;TZID=America/Chicago:20260329T092500
DTEND;TZID=America/Chicago:20260329T094500
DTSTAMP:20260425T203959
CREATED:20250925T151558Z
LAST-MODIFIED:20250925T151558Z
UID:10016855-1774776300-1774777500@www.vinjechurch.com
SUMMARY:Kids Time Sunday
DESCRIPTION:Library
URL:https://www.vinjechurch.com/event/kids-time-sunday/2026-03-29/
END:VEVENT
BEGIN:VEVENT
DTSTART;TZID=America/Chicago:20260329T093000
DTEND;TZID=America/Chicago:20260329T103000
DTSTAMP:20260425T203959
CREATED:20210310T175710Z
LAST-MODIFIED:20250210T154557Z
UID:10007586-1774776600-1774780200@www.vinjechurch.com
SUMMARY:Worship
DESCRIPTION:
URL:https://www.vinjechurch.com/event/worship-in-person/2026-03-29/
END:VEVENT
BEGIN:VEVENT
DTSTART;TZID=America/Chicago:20260329T093000
DTEND;TZID=America/Chicago:20260329T103000
DTSTAMP:20260425T203959
CREATED:20260225T162005Z
LAST-MODIFIED:20260225T162005Z
UID:10017493-1774776600-1774780200@www.vinjechurch.com
SUMMARY:Palm Sunday
DESCRIPTION:Palm Sunday Pancakes after worship @ 1030
URL:https://www.vinjechurch.com/event/palm-sunday-3/
END:VEVENT
BEGIN:VEVENT
DTSTART;TZID=America/Chicago:20260329T190000
DTEND;TZID=America/Chicago:20260329T220000
DTSTAMP:20260425T203959
CREATED:20250508T171917Z
LAST-MODIFIED:20250508T172112Z
UID:10008651-1774810800-1774821600@www.vinjechurch.com
SUMMARY:Mision Reg Church Service
DESCRIPTION:Sanctuary
URL:https://www.vinjechurch.com/event/mision-reg-worship/2026-03-29/
END:VEVENT
BEGIN:VEVENT
DTSTART;TZID=America/Chicago:20260330T181500
DTEND;TZID=America/Chicago:20260330T193000
DTSTAMP:20260425T203959
CREATED:20260203T164037Z
LAST-MODIFIED:20260203T164135Z
UID:10017485-1774894500-1774899000@www.vinjechurch.com
SUMMARY:JuBELLation
DESCRIPTION:sanctuary
URL:https://www.vinjechurch.com/event/jubellation-5/2026-03-30/
END:VEVENT
BEGIN:VEVENT
DTSTART;TZID=America/Chicago:20260331T090000
DTEND;TZID=America/Chicago:20260331T110000
DTSTAMP:20260425T203959
CREATED:20240423T161314Z
LAST-MODIFIED:20241210T161206Z
UID:10007338-1774947600-1774954800@www.vinjechurch.com
SUMMARY:TOPS Meetings
DESCRIPTION:Room 408
URL:https://www.vinjechurch.com/event/tops-meetings/2026-03-31/
END:VEVENT
BEGIN:VEVENT
DTSTART;TZID=America/Chicago:20260331T100000
DTEND;TZID=America/Chicago:20260331T110000
DTSTAMP:20260425T203959
CREATED:20220119T152439Z
LAST-MODIFIED:20251007T135704Z
UID:10006457-1774951200-1774954800@www.vinjechurch.com
SUMMARY:Men's Bible Study
DESCRIPTION:
URL:https://www.vinjechurch.com/event/mens-bible-study-3/2026-03-31/
END:VEVENT
BEGIN:VEVENT
DTSTART;TZID=America/Chicago:20260401T153000
DTEND;TZID=America/Chicago:20260401T173000
DTSTAMP:20260425T203959
CREATED:20250811T170119Z
LAST-MODIFIED:20250811T170119Z
UID:10016549-1775057400-1775064600@www.vinjechurch.com
SUMMARY:Wednesday Live!
DESCRIPTION:
URL:https://www.vinjechurch.com/event/wednesday-live-4/2026-04-01/
END:VEVENT
BEGIN:VEVENT
DTSTART;TZID=America/Chicago:20260401T163000
DTEND;TZID=America/Chicago:20260401T173000
DTSTAMP:20260425T203959
CREATED:20250903T134511Z
LAST-MODIFIED:20250916T170012Z
UID:10016754-1775061000-1775064600@www.vinjechurch.com
SUMMARY:Wednesday Live Pre-K
DESCRIPTION:Library
URL:https://www.vinjechurch.com/event/wed-live-pre-k/2026-04-01/
END:VEVENT
BEGIN:VEVENT
DTSTART;TZID=America/Chicago:20260401T170000
DTEND;TZID=America/Chicago:20260401T180000
DTSTAMP:20260425T203959
CREATED:20250811T170251Z
LAST-MODIFIED:20250811T170251Z
UID:10016579-1775062800-1775066400@www.vinjechurch.com
SUMMARY:Supper
DESCRIPTION:
URL:https://www.vinjechurch.com/event/supper-5/2026-04-01/
END:VEVENT
BEGIN:VEVENT
DTSTART;TZID=America/Chicago:20260401T172500
DTEND;TZID=America/Chicago:20260401T180000
DTSTAMP:20260425T203959
CREATED:20250811T170421Z
LAST-MODIFIED:20250811T170421Z
UID:10016609-1775064300-1775066400@www.vinjechurch.com
SUMMARY:Nova/Shalom
DESCRIPTION:
URL:https://www.vinjechurch.com/event/nova-shalom-3/2026-04-01/
END:VEVENT
BEGIN:VEVENT
DTSTART;TZID=America/Chicago:20260401T180000
DTEND;TZID=America/Chicago:20260401T190000
DTSTAMP:20260425T203959
CREATED:20250811T170550Z
LAST-MODIFIED:20250811T170550Z
UID:10016640-1775066400-1775070000@www.vinjechurch.com
SUMMARY:Wednesday Worship
DESCRIPTION:
URL:https://www.vinjechurch.com/event/wednesday-worship/2026-04-01/
END:VEVENT
BEGIN:VEVENT
DTSTART;TZID=America/Chicago:20260401T180000
DTEND;TZID=America/Chicago:20260401T200000
DTSTAMP:20260425T203959
CREATED:20250811T170918Z
LAST-MODIFIED:20250811T170918Z
UID:10016670-1775066400-1775073600@www.vinjechurch.com
SUMMARY:Confirmation
DESCRIPTION:
URL:https://www.vinjechurch.com/event/confirmation-8/2026-04-01/
END:VEVENT
BEGIN:VEVENT
DTSTART;TZID=America/Chicago:20260402T190000
DTEND;TZID=America/Chicago:20260402T200000
DTSTAMP:20260425T203959
CREATED:20260225T162133Z
LAST-MODIFIED:20260225T162133Z
UID:10017494-1775156400-1775160000@www.vinjechurch.com
SUMMARY:Maundy Thursday Worship @ First Presbyterian
DESCRIPTION:
URL:https://www.vinjechurch.com/event/maundy-thursday-worship-first-presbyterian-3/
END:VEVENT
BEGIN:VEVENT
DTSTART;TZID=America/Chicago:20260402T190000
DTEND;TZID=America/Chicago:20260402T220000
DTSTAMP:20260425T203959
CREATED:20250508T171814Z
LAST-MODIFIED:20260112T181000Z
UID:10008495-1775156400-1775167200@www.vinjechurch.com
SUMMARY:Mision Reg Bible Study
DESCRIPTION:Rm 102 Sept-May \nTheater June- Aug
URL:https://www.vinjechurch.com/event/mision-reg/2026-04-02/
END:VEVENT
BEGIN:VEVENT
DTSTART;TZID=America/Chicago:20260403T190000
DTEND;TZID=America/Chicago:20260403T200000
DTSTAMP:20260425T203959
CREATED:20260225T162202Z
LAST-MODIFIED:20260225T162202Z
UID:10017495-1775242800-1775246400@www.vinjechurch.com
SUMMARY:Good Friday Worship
DESCRIPTION:
URL:https://www.vinjechurch.com/event/good-friday-worship-6/
END:VEVENT
BEGIN:VEVENT
DTSTART;TZID=America/Chicago:20260405T080000
DTEND;TZID=America/Chicago:20260405T090000
DTSTAMP:20260425T203959
CREATED:20260225T162230Z
LAST-MODIFIED:20260225T162230Z
UID:10017496-1775376000-1775379600@www.vinjechurch.com
SUMMARY:Easter Sunday Worship
DESCRIPTION:
URL:https://www.vinjechurch.com/event/easter-sunday-worship-7/
END:VEVENT
BEGIN:VEVENT
DTSTART;TZID=America/Chicago:20260405T092500
DTEND;TZID=America/Chicago:20260405T094500
DTSTAMP:20260425T203959
CREATED:20250925T151558Z
LAST-MODIFIED:20250925T151558Z
UID:10016856-1775381100-1775382300@www.vinjechurch.com
SUMMARY:Kids Time Sunday
DESCRIPTION:Library
URL:https://www.vinjechurch.com/event/kids-time-sunday/2026-04-05/
END:VEVENT
BEGIN:VEVENT
DTSTART;TZID=America/Chicago:20260405T093000
DTEND;TZID=America/Chicago:20260405T103000
DTSTAMP:20260425T203959
CREATED:20210310T175710Z
LAST-MODIFIED:20250210T154557Z
UID:10007587-1775381400-1775385000@www.vinjechurch.com
SUMMARY:Worship
DESCRIPTION:
URL:https://www.vinjechurch.com/event/worship-in-person/2026-04-05/
END:VEVENT
BEGIN:VEVENT
DTSTART;TZID=America/Chicago:20260405T093000
DTEND;TZID=America/Chicago:20260405T223000
DTSTAMP:20260425T203959
CREATED:20260225T162304Z
LAST-MODIFIED:20260225T162304Z
UID:10017497-1775381400-1775428200@www.vinjechurch.com
SUMMARY:Easter Sunday Worship
DESCRIPTION:
URL:https://www.vinjechurch.com/event/easter-sunday-worship-8/
END:VEVENT
BEGIN:VEVENT
DTSTART;TZID=America/Chicago:20260405T190000
DTEND;TZID=America/Chicago:20260405T220000
DTSTAMP:20260425T203959
CREATED:20250508T171917Z
LAST-MODIFIED:20250508T172112Z
UID:10008652-1775415600-1775426400@www.vinjechurch.com
SUMMARY:Mision Reg Church Service
DESCRIPTION:Sanctuary
URL:https://www.vinjechurch.com/event/mision-reg-worship/2026-04-05/
END:VEVENT
BEGIN:VEVENT
DTSTART;VALUE=DATE:20260406
DTEND;VALUE=DATE:20260407
DTSTAMP:20260425T203959
CREATED:20250731T160854Z
LAST-MODIFIED:20250731T160854Z
UID:10016511-1775433600-1775519999@www.vinjechurch.com
SUMMARY:Office Closed- Easter Monday
DESCRIPTION:
URL:https://www.vinjechurch.com/event/office-closed-easter-monday-2/
END:VEVENT
BEGIN:VEVENT
DTSTART;TZID=America/Chicago:20260406T120000
DTEND;TZID=America/Chicago:20260406T130000
DTSTAMP:20260425T203959
CREATED:20251222T174706Z
LAST-MODIFIED:20260223T192220Z
UID:10017415-1775476800-1775480400@www.vinjechurch.com
SUMMARY:Vinje Women's Bible Study
DESCRIPTION:heritage room
URL:https://www.vinjechurch.com/event/vinje-womens-bible-study-2/2026-04-06/
END:VEVENT
BEGIN:VEVENT
DTSTART;TZID=America/Chicago:20260406T150000
DTEND;TZID=America/Chicago:20260406T180000
DTSTAMP:20260425T203959
CREATED:20250721T173802Z
LAST-MODIFIED:20250721T173802Z
UID:10016505-1775487600-1775498400@www.vinjechurch.com
SUMMARY:Vocal Recital Rehearsal
DESCRIPTION:fellowship hall
URL:https://www.vinjechurch.com/event/vocal-recital-rehearsal-2/
END:VEVENT
BEGIN:VEVENT
DTSTART;TZID=America/Chicago:20260407T090000
DTEND;TZID=America/Chicago:20260407T110000
DTSTAMP:20260425T203959
CREATED:20240423T161314Z
LAST-MODIFIED:20241210T161206Z
UID:10007339-1775552400-1775559600@www.vinjechurch.com
SUMMARY:TOPS Meetings
DESCRIPTION:Room 408
URL:https://www.vinjechurch.com/event/tops-meetings/2026-04-07/
END:VEVENT
BEGIN:VEVENT
DTSTART;TZID=America/Chicago:20260407T100000
DTEND;TZID=America/Chicago:20260407T110000
DTSTAMP:20260425T203959
CREATED:20220119T152439Z
LAST-MODIFIED:20251007T135704Z
UID:10006458-1775556000-1775559600@www.vinjechurch.com
SUMMARY:Men's Bible Study
DESCRIPTION:
URL:https://www.vinjechurch.com/event/mens-bible-study-3/2026-04-07/
END:VEVENT
BEGIN:VEVENT
DTSTART;TZID=America/Chicago:20260407T140000
DTEND;TZID=America/Chicago:20260407T160000
DTSTAMP:20260425T203959
CREATED:20220630T171105Z
LAST-MODIFIED:20251008T141827Z
UID:10005951-1775570400-1775577600@www.vinjechurch.com
SUMMARY:Ruth Circle
DESCRIPTION:Heritage Room
URL:https://www.vinjechurch.com/event/naomi-sarah-circle-3/2026-04-07/
END:VEVENT
BEGIN:VEVENT
DTSTART;TZID=America/Chicago:20260408T083000
DTEND;TZID=America/Chicago:20260408T100000
DTSTAMP:20260425T203959
CREATED:20240304T191913Z
LAST-MODIFIED:20250624T162759Z
UID:10007098-1775637000-1775642400@www.vinjechurch.com
SUMMARY:Elizabeth Circle @ Carol Parker's
DESCRIPTION:
URL:https://www.vinjechurch.com/event/elizabeth-circle-carol-parkers-2-2/2026-04-08/
END:VEVENT
BEGIN:VEVENT
DTSTART;TZID=America/Chicago:20260408T153000
DTEND;TZID=America/Chicago:20260408T173000
DTSTAMP:20260425T203959
CREATED:20250811T170119Z
LAST-MODIFIED:20250811T170119Z
UID:10016550-1775662200-1775669400@www.vinjechurch.com
SUMMARY:Wednesday Live!
DESCRIPTION:
URL:https://www.vinjechurch.com/event/wednesday-live-4/2026-04-08/
END:VEVENT
END:VCALENDAR