BEGIN:VCALENDAR
VERSION:2.0
PRODID:-//Vinje Lutheran Church - ECPv6.15.20//NONSGML v1.0//EN
CALSCALE:GREGORIAN
METHOD:PUBLISH
X-WR-CALNAME:Vinje Lutheran Church
X-ORIGINAL-URL:https://www.vinjechurch.com
X-WR-CALDESC:Events for Vinje Lutheran Church
REFRESH-INTERVAL;VALUE=DURATION:PT1H
X-Robots-Tag:noindex
X-PUBLISHED-TTL:PT1H
BEGIN:VTIMEZONE
TZID:America/Chicago
BEGIN:DAYLIGHT
TZOFFSETFROM:-0600
TZOFFSETTO:-0500
TZNAME:CDT
DTSTART:20250309T080000
END:DAYLIGHT
BEGIN:STANDARD
TZOFFSETFROM:-0500
TZOFFSETTO:-0600
TZNAME:CST
DTSTART:20251102T070000
END:STANDARD
BEGIN:DAYLIGHT
TZOFFSETFROM:-0600
TZOFFSETTO:-0500
TZNAME:CDT
DTSTART:20260308T080000
END:DAYLIGHT
BEGIN:STANDARD
TZOFFSETFROM:-0500
TZOFFSETTO:-0600
TZNAME:CST
DTSTART:20261101T070000
END:STANDARD
BEGIN:DAYLIGHT
TZOFFSETFROM:-0600
TZOFFSETTO:-0500
TZNAME:CDT
DTSTART:20270314T080000
END:DAYLIGHT
BEGIN:STANDARD
TZOFFSETFROM:-0500
TZOFFSETTO:-0600
TZNAME:CST
DTSTART:20271107T070000
END:STANDARD
END:VTIMEZONE
BEGIN:VEVENT
DTSTART;TZID=America/Chicago:20260407T090000
DTEND;TZID=America/Chicago:20260407T110000
DTSTAMP:20260425T112533
CREATED:20240423T161314Z
LAST-MODIFIED:20241210T161206Z
UID:10007339-1775552400-1775559600@www.vinjechurch.com
SUMMARY:TOPS Meetings
DESCRIPTION:Room 408
URL:https://www.vinjechurch.com/event/tops-meetings/2026-04-07/
END:VEVENT
BEGIN:VEVENT
DTSTART;TZID=America/Chicago:20260407T100000
DTEND;TZID=America/Chicago:20260407T110000
DTSTAMP:20260425T112533
CREATED:20220119T152439Z
LAST-MODIFIED:20251007T135704Z
UID:10006458-1775556000-1775559600@www.vinjechurch.com
SUMMARY:Men's Bible Study
DESCRIPTION:
URL:https://www.vinjechurch.com/event/mens-bible-study-3/2026-04-07/
END:VEVENT
BEGIN:VEVENT
DTSTART;TZID=America/Chicago:20260407T140000
DTEND;TZID=America/Chicago:20260407T160000
DTSTAMP:20260425T112533
CREATED:20220630T171105Z
LAST-MODIFIED:20251008T141827Z
UID:10005951-1775570400-1775577600@www.vinjechurch.com
SUMMARY:Ruth Circle
DESCRIPTION:Heritage Room
URL:https://www.vinjechurch.com/event/naomi-sarah-circle-3/2026-04-07/
END:VEVENT
BEGIN:VEVENT
DTSTART;TZID=America/Chicago:20260408T083000
DTEND;TZID=America/Chicago:20260408T100000
DTSTAMP:20260425T112533
CREATED:20240304T191913Z
LAST-MODIFIED:20250624T162759Z
UID:10007098-1775637000-1775642400@www.vinjechurch.com
SUMMARY:Elizabeth Circle @ Carol Parker's
DESCRIPTION:
URL:https://www.vinjechurch.com/event/elizabeth-circle-carol-parkers-2-2/2026-04-08/
END:VEVENT
BEGIN:VEVENT
DTSTART;TZID=America/Chicago:20260408T153000
DTEND;TZID=America/Chicago:20260408T173000
DTSTAMP:20260425T112533
CREATED:20250811T170119Z
LAST-MODIFIED:20250811T170119Z
UID:10016550-1775662200-1775669400@www.vinjechurch.com
SUMMARY:Wednesday Live!
DESCRIPTION:
URL:https://www.vinjechurch.com/event/wednesday-live-4/2026-04-08/
END:VEVENT
BEGIN:VEVENT
DTSTART;TZID=America/Chicago:20260408T163000
DTEND;TZID=America/Chicago:20260408T173000
DTSTAMP:20260425T112533
CREATED:20250903T134511Z
LAST-MODIFIED:20250916T170012Z
UID:10016755-1775665800-1775669400@www.vinjechurch.com
SUMMARY:Wednesday Live Pre-K
DESCRIPTION:Library
URL:https://www.vinjechurch.com/event/wed-live-pre-k/2026-04-08/
END:VEVENT
BEGIN:VEVENT
DTSTART;TZID=America/Chicago:20260408T170000
DTEND;TZID=America/Chicago:20260408T180000
DTSTAMP:20260425T112533
CREATED:20250811T170251Z
LAST-MODIFIED:20250811T170251Z
UID:10016580-1775667600-1775671200@www.vinjechurch.com
SUMMARY:Supper
DESCRIPTION:
URL:https://www.vinjechurch.com/event/supper-5/2026-04-08/
END:VEVENT
BEGIN:VEVENT
DTSTART;TZID=America/Chicago:20260408T172500
DTEND;TZID=America/Chicago:20260408T180000
DTSTAMP:20260425T112533
CREATED:20250811T170421Z
LAST-MODIFIED:20250811T170421Z
UID:10016610-1775669100-1775671200@www.vinjechurch.com
SUMMARY:Nova/Shalom
DESCRIPTION:
URL:https://www.vinjechurch.com/event/nova-shalom-3/2026-04-08/
END:VEVENT
BEGIN:VEVENT
DTSTART;TZID=America/Chicago:20260408T180000
DTEND;TZID=America/Chicago:20260408T190000
DTSTAMP:20260425T112534
CREATED:20250811T170550Z
LAST-MODIFIED:20250811T170550Z
UID:10016641-1775671200-1775674800@www.vinjechurch.com
SUMMARY:Wednesday Worship
DESCRIPTION:
URL:https://www.vinjechurch.com/event/wednesday-worship/2026-04-08/
END:VEVENT
BEGIN:VEVENT
DTSTART;TZID=America/Chicago:20260408T180000
DTEND;TZID=America/Chicago:20260408T200000
DTSTAMP:20260425T112534
CREATED:20250811T170918Z
LAST-MODIFIED:20250811T170918Z
UID:10016671-1775671200-1775678400@www.vinjechurch.com
SUMMARY:Confirmation
DESCRIPTION:
URL:https://www.vinjechurch.com/event/confirmation-8/2026-04-08/
END:VEVENT
BEGIN:VEVENT
DTSTART;TZID=America/Chicago:20260409T090000
DTEND;TZID=America/Chicago:20260409T120000
DTSTAMP:20260425T112534
CREATED:20250814T161143Z
LAST-MODIFIED:20250814T161143Z
UID:10016721-1775725200-1775736000@www.vinjechurch.com
SUMMARY:Vinje Quilters
DESCRIPTION:
URL:https://www.vinjechurch.com/event/vinje-quilters-27/2026-04-09/
END:VEVENT
BEGIN:VEVENT
DTSTART;TZID=America/Chicago:20260409T190000
DTEND;TZID=America/Chicago:20260409T220000
DTSTAMP:20260425T112534
CREATED:20250508T171814Z
LAST-MODIFIED:20260112T181000Z
UID:10008496-1775761200-1775772000@www.vinjechurch.com
SUMMARY:Mision Reg Bible Study
DESCRIPTION:Rm 102 Sept-May \nTheater June- Aug
URL:https://www.vinjechurch.com/event/mision-reg/2026-04-09/
END:VEVENT
BEGIN:VEVENT
DTSTART;TZID=America/Chicago:20260412T092500
DTEND;TZID=America/Chicago:20260412T094500
DTSTAMP:20260425T112534
CREATED:20250925T151558Z
LAST-MODIFIED:20250925T151558Z
UID:10016857-1775985900-1775987100@www.vinjechurch.com
SUMMARY:Kids Time Sunday
DESCRIPTION:Library
URL:https://www.vinjechurch.com/event/kids-time-sunday/2026-04-12/
END:VEVENT
BEGIN:VEVENT
DTSTART;TZID=America/Chicago:20260412T093000
DTEND;TZID=America/Chicago:20260412T103000
DTSTAMP:20260425T112534
CREATED:20210310T175710Z
LAST-MODIFIED:20250210T154557Z
UID:10007588-1775986200-1775989800@www.vinjechurch.com
SUMMARY:Worship
DESCRIPTION:
URL:https://www.vinjechurch.com/event/worship-in-person/2026-04-12/
END:VEVENT
BEGIN:VEVENT
DTSTART;TZID=America/Chicago:20260412T140000
DTEND;TZID=America/Chicago:20260412T163000
DTSTAMP:20260425T112534
CREATED:20250721T173840Z
LAST-MODIFIED:20250721T173840Z
UID:10016506-1776002400-1776011400@www.vinjechurch.com
SUMMARY:Vocal recital
DESCRIPTION:fellowship hall
URL:https://www.vinjechurch.com/event/vocal-recital-11/
END:VEVENT
BEGIN:VEVENT
DTSTART;TZID=America/Chicago:20260412T190000
DTEND;TZID=America/Chicago:20260412T220000
DTSTAMP:20260425T112534
CREATED:20250508T171917Z
LAST-MODIFIED:20250508T172112Z
UID:10008653-1776020400-1776031200@www.vinjechurch.com
SUMMARY:Mision Reg Church Service
DESCRIPTION:Sanctuary
URL:https://www.vinjechurch.com/event/mision-reg-worship/2026-04-12/
END:VEVENT
BEGIN:VEVENT
DTSTART;TZID=America/Chicago:20260413T120000
DTEND;TZID=America/Chicago:20260413T130000
DTSTAMP:20260425T112534
CREATED:20251222T174706Z
LAST-MODIFIED:20260223T192220Z
UID:10017416-1776081600-1776085200@www.vinjechurch.com
SUMMARY:Vinje Women's Bible Study
DESCRIPTION:heritage room
URL:https://www.vinjechurch.com/event/vinje-womens-bible-study-2/2026-04-13/
END:VEVENT
BEGIN:VEVENT
DTSTART;TZID=America/Chicago:20260414T090000
DTEND;TZID=America/Chicago:20260414T110000
DTSTAMP:20260425T112534
CREATED:20240423T161314Z
LAST-MODIFIED:20241210T161206Z
UID:10007340-1776157200-1776164400@www.vinjechurch.com
SUMMARY:TOPS Meetings
DESCRIPTION:Room 408
URL:https://www.vinjechurch.com/event/tops-meetings/2026-04-14/
END:VEVENT
BEGIN:VEVENT
DTSTART;TZID=America/Chicago:20260414T100000
DTEND;TZID=America/Chicago:20260414T110000
DTSTAMP:20260425T112534
CREATED:20220119T152439Z
LAST-MODIFIED:20251007T135704Z
UID:10006459-1776160800-1776164400@www.vinjechurch.com
SUMMARY:Men's Bible Study
DESCRIPTION:
URL:https://www.vinjechurch.com/event/mens-bible-study-3/2026-04-14/
END:VEVENT
BEGIN:VEVENT
DTSTART;TZID=America/Chicago:20260415T153000
DTEND;TZID=America/Chicago:20260415T173000
DTSTAMP:20260425T112534
CREATED:20250811T170119Z
LAST-MODIFIED:20250811T170119Z
UID:10016551-1776267000-1776274200@www.vinjechurch.com
SUMMARY:Wednesday Live!
DESCRIPTION:
URL:https://www.vinjechurch.com/event/wednesday-live-4/2026-04-15/
END:VEVENT
BEGIN:VEVENT
DTSTART;TZID=America/Chicago:20260415T163000
DTEND;TZID=America/Chicago:20260415T173000
DTSTAMP:20260425T112534
CREATED:20250903T134511Z
LAST-MODIFIED:20250916T170012Z
UID:10016756-1776270600-1776274200@www.vinjechurch.com
SUMMARY:Wednesday Live Pre-K
DESCRIPTION:Library
URL:https://www.vinjechurch.com/event/wed-live-pre-k/2026-04-15/
END:VEVENT
BEGIN:VEVENT
DTSTART;TZID=America/Chicago:20260415T170000
DTEND;TZID=America/Chicago:20260415T180000
DTSTAMP:20260425T112534
CREATED:20250811T170251Z
LAST-MODIFIED:20250811T170251Z
UID:10016581-1776272400-1776276000@www.vinjechurch.com
SUMMARY:Supper
DESCRIPTION:
URL:https://www.vinjechurch.com/event/supper-5/2026-04-15/
END:VEVENT
BEGIN:VEVENT
DTSTART;TZID=America/Chicago:20260415T172500
DTEND;TZID=America/Chicago:20260415T180000
DTSTAMP:20260425T112534
CREATED:20250811T170421Z
LAST-MODIFIED:20250811T170421Z
UID:10016611-1776273900-1776276000@www.vinjechurch.com
SUMMARY:Nova/Shalom
DESCRIPTION:
URL:https://www.vinjechurch.com/event/nova-shalom-3/2026-04-15/
END:VEVENT
BEGIN:VEVENT
DTSTART;TZID=America/Chicago:20260415T180000
DTEND;TZID=America/Chicago:20260415T190000
DTSTAMP:20260425T112534
CREATED:20250811T170550Z
LAST-MODIFIED:20250811T170550Z
UID:10016642-1776276000-1776279600@www.vinjechurch.com
SUMMARY:Wednesday Worship
DESCRIPTION:
URL:https://www.vinjechurch.com/event/wednesday-worship/2026-04-15/
END:VEVENT
BEGIN:VEVENT
DTSTART;TZID=America/Chicago:20260415T180000
DTEND;TZID=America/Chicago:20260415T200000
DTSTAMP:20260425T112534
CREATED:20250811T170918Z
LAST-MODIFIED:20250811T170918Z
UID:10016672-1776276000-1776283200@www.vinjechurch.com
SUMMARY:Confirmation
DESCRIPTION:
URL:https://www.vinjechurch.com/event/confirmation-8/2026-04-15/
END:VEVENT
BEGIN:VEVENT
DTSTART;TZID=America/Chicago:20260416T100000
DTEND;TZID=America/Chicago:20260416T120000
DTSTAMP:20260425T112534
CREATED:20260212T152908Z
LAST-MODIFIED:20260212T152908Z
UID:10017489-1776333600-1776340800@www.vinjechurch.com
SUMMARY:Melodies that Matter: Utilizing Music with Intention While Caring for Your Aging Loved Ones
DESCRIPTION:Choir Room
URL:https://www.vinjechurch.com/event/melodies-that-matter-utilizing-music-with-intention-while-caring-for-your-aging-loved-ones/
END:VEVENT
BEGIN:VEVENT
DTSTART;TZID=America/Chicago:20260416T180000
DTEND;TZID=America/Chicago:20260416T200000
DTSTAMP:20260425T112534
CREATED:20210721T190950Z
LAST-MODIFIED:20251218T182945Z
UID:10006601-1776362400-1776369600@www.vinjechurch.com
SUMMARY:AIM People First
DESCRIPTION:Fellowship Hall \n  \n 
URL:https://www.vinjechurch.com/event/aim-people-first/2026-04-16/
END:VEVENT
BEGIN:VEVENT
DTSTART;TZID=America/Chicago:20260416T183000
DTEND;TZID=America/Chicago:20260416T193000
DTSTAMP:20260425T112534
CREATED:20210825T160824Z
LAST-MODIFIED:20251216T142151Z
UID:10017349-1776364200-1776367800@www.vinjechurch.com
SUMMARY:Blue Star Mother's
DESCRIPTION:Heritage Room
URL:https://www.vinjechurch.com/event/blue-star-mothers/2026-04-16/
END:VEVENT
BEGIN:VEVENT
DTSTART;TZID=America/Chicago:20260416T190000
DTEND;TZID=America/Chicago:20260416T220000
DTSTAMP:20260425T112534
CREATED:20250508T171814Z
LAST-MODIFIED:20260112T181000Z
UID:10008497-1776366000-1776376800@www.vinjechurch.com
SUMMARY:Mision Reg Bible Study
DESCRIPTION:Rm 102 Sept-May \nTheater June- Aug
URL:https://www.vinjechurch.com/event/mision-reg/2026-04-16/
END:VEVENT
BEGIN:VEVENT
DTSTART;TZID=America/Chicago:20260417T110000
DTEND;TZID=America/Chicago:20260417T120000
DTSTAMP:20260425T112534
CREATED:20260407T153350Z
LAST-MODIFIED:20260413T140859Z
UID:10017507-1776423600-1776427200@www.vinjechurch.com
SUMMARY:Funeral- Naida Carlson
DESCRIPTION:visitation 1 hr. prior to service
URL:https://www.vinjechurch.com/event/funeral-naida-carlson/
END:VEVENT
END:VCALENDAR