BEGIN:VCALENDAR
VERSION:2.0
PRODID:-//Vinje Lutheran Church - ECPv6.15.20//NONSGML v1.0//EN
CALSCALE:GREGORIAN
METHOD:PUBLISH
X-WR-CALNAME:Vinje Lutheran Church
X-ORIGINAL-URL:https://www.vinjechurch.com
X-WR-CALDESC:Events for Vinje Lutheran Church
REFRESH-INTERVAL;VALUE=DURATION:PT1H
X-Robots-Tag:noindex
X-PUBLISHED-TTL:PT1H
BEGIN:VTIMEZONE
TZID:America/Chicago
BEGIN:DAYLIGHT
TZOFFSETFROM:-0600
TZOFFSETTO:-0500
TZNAME:CDT
DTSTART:20240310T080000
END:DAYLIGHT
BEGIN:STANDARD
TZOFFSETFROM:-0500
TZOFFSETTO:-0600
TZNAME:CST
DTSTART:20241103T070000
END:STANDARD
BEGIN:DAYLIGHT
TZOFFSETFROM:-0600
TZOFFSETTO:-0500
TZNAME:CDT
DTSTART:20250309T080000
END:DAYLIGHT
BEGIN:STANDARD
TZOFFSETFROM:-0500
TZOFFSETTO:-0600
TZNAME:CST
DTSTART:20251102T070000
END:STANDARD
BEGIN:DAYLIGHT
TZOFFSETFROM:-0600
TZOFFSETTO:-0500
TZNAME:CDT
DTSTART:20260308T080000
END:DAYLIGHT
BEGIN:STANDARD
TZOFFSETFROM:-0500
TZOFFSETTO:-0600
TZNAME:CST
DTSTART:20261101T070000
END:STANDARD
END:VTIMEZONE
BEGIN:VEVENT
DTSTART;TZID=America/Chicago:20250126T093000
DTEND;TZID=America/Chicago:20250126T103000
DTSTAMP:20260423T035201
CREATED:20210310T175710Z
LAST-MODIFIED:20250210T154557Z
UID:10005878-1737883800-1737887400@www.vinjechurch.com
SUMMARY:Worship
DESCRIPTION:
URL:https://www.vinjechurch.com/event/worship-in-person/2025-01-26/
END:VEVENT
BEGIN:VEVENT
DTSTART;TZID=America/Chicago:20250126T123000
DTEND;TZID=America/Chicago:20250126T153000
DTSTAMP:20260423T035201
CREATED:20250121T163713Z
LAST-MODIFIED:20250121T163713Z
UID:10008287-1737894600-1737905400@www.vinjechurch.com
SUMMARY:Recital Auditions
DESCRIPTION:Cheryl Schmidt \nSanctuary
URL:https://www.vinjechurch.com/event/recital-auditions/
END:VEVENT
BEGIN:VEVENT
DTSTART;TZID=America/Chicago:20250127T123000
DTEND;TZID=America/Chicago:20250127T133000
DTSTAMP:20260423T035201
CREATED:20240918T161734Z
LAST-MODIFIED:20250331T184532Z
UID:10008001-1737981000-1737984600@www.vinjechurch.com
SUMMARY:Women's Bible Study
DESCRIPTION:Heritage Room
URL:https://www.vinjechurch.com/event/womens-bible-study-5/2025-01-27/
END:VEVENT
BEGIN:VEVENT
DTSTART;TZID=America/Chicago:20250127T140000
DTEND;TZID=America/Chicago:20250127T200000
DTSTAMP:20260423T035201
CREATED:20240813T141806Z
LAST-MODIFIED:20240826T161154Z
UID:10007765-1737986400-1738008000@www.vinjechurch.com
SUMMARY:Vocal Festival
DESCRIPTION:Choir Room \nTheater Room \nCheryl Schmidt
URL:https://www.vinjechurch.com/event/vocal-festival-3/
END:VEVENT
BEGIN:VEVENT
DTSTART;TZID=America/Chicago:20250127T170000
DTEND;TZID=America/Chicago:20250127T180000
DTSTAMP:20260423T035201
CREATED:20250116T162521Z
LAST-MODIFIED:20250429T192605Z
UID:10006721-1737997200-1738000800@www.vinjechurch.com
SUMMARY:Loving Arms Board Meeting
DESCRIPTION:
URL:https://www.vinjechurch.com/event/loving-arms-board-meeting-2/2025-01-27/
END:VEVENT
BEGIN:VEVENT
DTSTART;TZID=America/Chicago:20250127T190000
DTEND;TZID=America/Chicago:20250127T200000
DTSTAMP:20260423T035201
CREATED:20231009T154852Z
LAST-MODIFIED:20250429T192707Z
UID:10006645-1738004400-1738008000@www.vinjechurch.com
SUMMARY:Church Council Meeting
DESCRIPTION:
URL:https://www.vinjechurch.com/event/church-council-meeting-2/2025-01-27/
END:VEVENT
BEGIN:VEVENT
DTSTART;TZID=America/Chicago:20250128T090000
DTEND;TZID=America/Chicago:20250128T110000
DTSTAMP:20260423T035201
CREATED:20240423T161314Z
LAST-MODIFIED:20241210T161206Z
UID:10007277-1738054800-1738062000@www.vinjechurch.com
SUMMARY:TOPS Meetings
DESCRIPTION:Room 408
URL:https://www.vinjechurch.com/event/tops-meetings/2025-01-28/
END:VEVENT
BEGIN:VEVENT
DTSTART;TZID=America/Chicago:20250128T100000
DTEND;TZID=America/Chicago:20250128T110000
DTSTAMP:20260423T035201
CREATED:20220119T152439Z
LAST-MODIFIED:20251007T135704Z
UID:10005896-1738058400-1738062000@www.vinjechurch.com
SUMMARY:Men's Bible Study
DESCRIPTION:
URL:https://www.vinjechurch.com/event/mens-bible-study-3/2025-01-28/
END:VEVENT
BEGIN:VEVENT
DTSTART;TZID=America/Chicago:20250129T153000
DTEND;TZID=America/Chicago:20250129T173000
DTSTAMP:20260423T035201
CREATED:20240813T191411Z
LAST-MODIFIED:20240813T191411Z
UID:10007787-1738164600-1738171800@www.vinjechurch.com
SUMMARY:Wednesday Live!
DESCRIPTION:
URL:https://www.vinjechurch.com/event/wednesday-live-3/2025-01-29/
END:VEVENT
BEGIN:VEVENT
DTSTART;TZID=America/Chicago:20250129T170000
DTEND;TZID=America/Chicago:20250129T180000
DTSTAMP:20260423T035201
CREATED:20240813T191533Z
LAST-MODIFIED:20250219T172409Z
UID:10007818-1738170000-1738173600@www.vinjechurch.com
SUMMARY:Supper
DESCRIPTION:
URL:https://www.vinjechurch.com/event/supper-4/2025-01-29/
END:VEVENT
BEGIN:VEVENT
DTSTART;TZID=America/Chicago:20250129T172500
DTEND;TZID=America/Chicago:20250129T180000
DTSTAMP:20260423T035201
CREATED:20240813T191700Z
LAST-MODIFIED:20250219T172446Z
UID:10007849-1738171500-1738173600@www.vinjechurch.com
SUMMARY:Nova/Shalom
DESCRIPTION:
URL:https://www.vinjechurch.com/event/nova-shalom-2/2025-01-29/
END:VEVENT
BEGIN:VEVENT
DTSTART;TZID=America/Chicago:20250129T180000
DTEND;TZID=America/Chicago:20250129T190000
DTSTAMP:20260423T035201
CREATED:20240813T191814Z
LAST-MODIFIED:20250219T172308Z
UID:10007880-1738173600-1738177200@www.vinjechurch.com
SUMMARY:Worship
DESCRIPTION:
URL:https://www.vinjechurch.com/event/worship-10/2025-01-29/
END:VEVENT
BEGIN:VEVENT
DTSTART;TZID=America/Chicago:20250129T180000
DTEND;TZID=America/Chicago:20250129T200000
DTSTAMP:20260423T035201
CREATED:20240813T191919Z
LAST-MODIFIED:20250219T172231Z
UID:10007912-1738173600-1738180800@www.vinjechurch.com
SUMMARY:Confirmation
DESCRIPTION:
URL:https://www.vinjechurch.com/event/confirmation-7/2025-01-29/
END:VEVENT
END:VCALENDAR