BEGIN:VCALENDAR
VERSION:2.0
PRODID:-//Vinje Lutheran Church - ECPv6.15.20//NONSGML v1.0//EN
CALSCALE:GREGORIAN
METHOD:PUBLISH
X-WR-CALNAME:Vinje Lutheran Church
X-ORIGINAL-URL:https://www.vinjechurch.com
X-WR-CALDESC:Events for Vinje Lutheran Church
REFRESH-INTERVAL;VALUE=DURATION:PT1H
X-Robots-Tag:noindex
X-PUBLISHED-TTL:PT1H
BEGIN:VTIMEZONE
TZID:America/Chicago
BEGIN:DAYLIGHT
TZOFFSETFROM:-0600
TZOFFSETTO:-0500
TZNAME:CDT
DTSTART:20250309T080000
END:DAYLIGHT
BEGIN:STANDARD
TZOFFSETFROM:-0500
TZOFFSETTO:-0600
TZNAME:CST
DTSTART:20251102T070000
END:STANDARD
BEGIN:DAYLIGHT
TZOFFSETFROM:-0600
TZOFFSETTO:-0500
TZNAME:CDT
DTSTART:20260308T080000
END:DAYLIGHT
BEGIN:STANDARD
TZOFFSETFROM:-0500
TZOFFSETTO:-0600
TZNAME:CST
DTSTART:20261101T070000
END:STANDARD
BEGIN:DAYLIGHT
TZOFFSETFROM:-0600
TZOFFSETTO:-0500
TZNAME:CDT
DTSTART:20270314T080000
END:DAYLIGHT
BEGIN:STANDARD
TZOFFSETFROM:-0500
TZOFFSETTO:-0600
TZNAME:CST
DTSTART:20271107T070000
END:STANDARD
END:VTIMEZONE
BEGIN:VEVENT
DTSTART;TZID=America/Chicago:20260322T092500
DTEND;TZID=America/Chicago:20260322T094500
DTSTAMP:20260425T114655
CREATED:20250925T151558Z
LAST-MODIFIED:20250925T151558Z
UID:10016854-1774171500-1774172700@www.vinjechurch.com
SUMMARY:Kids Time Sunday
DESCRIPTION:Library
URL:https://www.vinjechurch.com/event/kids-time-sunday/2026-03-22/
END:VEVENT
BEGIN:VEVENT
DTSTART;TZID=America/Chicago:20260322T093000
DTEND;TZID=America/Chicago:20260322T103000
DTSTAMP:20260425T114655
CREATED:20210310T175710Z
LAST-MODIFIED:20250210T154557Z
UID:10007585-1774171800-1774175400@www.vinjechurch.com
SUMMARY:Worship
DESCRIPTION:
URL:https://www.vinjechurch.com/event/worship-in-person/2026-03-22/
END:VEVENT
BEGIN:VEVENT
DTSTART;TZID=America/Chicago:20260322T190000
DTEND;TZID=America/Chicago:20260322T220000
DTSTAMP:20260425T114655
CREATED:20250508T171917Z
LAST-MODIFIED:20250508T172112Z
UID:10008650-1774206000-1774216800@www.vinjechurch.com
SUMMARY:Mision Reg Church Service
DESCRIPTION:Sanctuary
URL:https://www.vinjechurch.com/event/mision-reg-worship/2026-03-22/
END:VEVENT
BEGIN:VEVENT
DTSTART;VALUE=DATE:20260323
DTEND;VALUE=DATE:20260325
DTSTAMP:20260425T114655
CREATED:20260317T141725Z
LAST-MODIFIED:20260317T141725Z
UID:10017499-1774224000-1774396799@www.vinjechurch.com
SUMMARY:Office Closed
DESCRIPTION:
URL:https://www.vinjechurch.com/event/office-closed-8/
END:VEVENT
BEGIN:VEVENT
DTSTART;TZID=America/Chicago:20260323T120000
DTEND;TZID=America/Chicago:20260323T130000
DTSTAMP:20260425T114655
CREATED:20251222T174706Z
LAST-MODIFIED:20260223T192220Z
UID:10017413-1774267200-1774270800@www.vinjechurch.com
SUMMARY:Vinje Women's Bible Study
DESCRIPTION:heritage room
URL:https://www.vinjechurch.com/event/vinje-womens-bible-study-2/2026-03-23/
END:VEVENT
BEGIN:VEVENT
DTSTART;TZID=America/Chicago:20260323T170000
DTEND;TZID=America/Chicago:20260323T180000
DTSTAMP:20260425T114655
CREATED:20250116T162521Z
LAST-MODIFIED:20250429T192605Z
UID:10008237-1774285200-1774288800@www.vinjechurch.com
SUMMARY:Loving Arms Board Meeting
DESCRIPTION:
URL:https://www.vinjechurch.com/event/loving-arms-board-meeting-2/2026-03-23/
END:VEVENT
BEGIN:VEVENT
DTSTART;TZID=America/Chicago:20260323T181500
DTEND;TZID=America/Chicago:20260323T193000
DTSTAMP:20260425T114655
CREATED:20260203T164037Z
LAST-MODIFIED:20260203T164135Z
UID:10017484-1774289700-1774294200@www.vinjechurch.com
SUMMARY:JuBELLation
DESCRIPTION:sanctuary
URL:https://www.vinjechurch.com/event/jubellation-5/2026-03-23/
END:VEVENT
BEGIN:VEVENT
DTSTART;TZID=America/Chicago:20260323T190000
DTEND;TZID=America/Chicago:20260323T200000
DTSTAMP:20260425T114655
CREATED:20231009T154852Z
LAST-MODIFIED:20250429T192707Z
UID:10006659-1774292400-1774296000@www.vinjechurch.com
SUMMARY:Church Council Meeting
DESCRIPTION:
URL:https://www.vinjechurch.com/event/church-council-meeting-2/2026-03-23/
END:VEVENT
BEGIN:VEVENT
DTSTART;TZID=America/Chicago:20260324T090000
DTEND;TZID=America/Chicago:20260324T110000
DTSTAMP:20260425T114655
CREATED:20240423T161314Z
LAST-MODIFIED:20241210T161206Z
UID:10007337-1774342800-1774350000@www.vinjechurch.com
SUMMARY:TOPS Meetings
DESCRIPTION:Room 408
URL:https://www.vinjechurch.com/event/tops-meetings/2026-03-24/
END:VEVENT
BEGIN:VEVENT
DTSTART;TZID=America/Chicago:20260324T100000
DTEND;TZID=America/Chicago:20260324T110000
DTSTAMP:20260425T114655
CREATED:20220119T152439Z
LAST-MODIFIED:20251007T135704Z
UID:10006456-1774346400-1774350000@www.vinjechurch.com
SUMMARY:Men's Bible Study
DESCRIPTION:
URL:https://www.vinjechurch.com/event/mens-bible-study-3/2026-03-24/
END:VEVENT
BEGIN:VEVENT
DTSTART;TZID=America/Chicago:20260325T180000
DTEND;TZID=America/Chicago:20260325T190000
DTSTAMP:20260425T114655
CREATED:20250811T170550Z
LAST-MODIFIED:20250811T170550Z
UID:10016639-1774461600-1774465200@www.vinjechurch.com
SUMMARY:Wednesday Worship
DESCRIPTION:
URL:https://www.vinjechurch.com/event/wednesday-worship/2026-03-25/
END:VEVENT
BEGIN:VEVENT
DTSTART;TZID=America/Chicago:20260326T090000
DTEND;TZID=America/Chicago:20260326T120000
DTSTAMP:20260425T114655
CREATED:20250814T151334Z
LAST-MODIFIED:20250814T151334Z
UID:10016720-1774515600-1774526400@www.vinjechurch.com
SUMMARY:Vinje Quilters
DESCRIPTION:
URL:https://www.vinjechurch.com/event/vinje-quilters-26/2026-03-26/
END:VEVENT
BEGIN:VEVENT
DTSTART;TZID=America/Chicago:20260326T190000
DTEND;TZID=America/Chicago:20260326T220000
DTSTAMP:20260425T114655
CREATED:20250508T171814Z
LAST-MODIFIED:20260112T181000Z
UID:10008494-1774551600-1774562400@www.vinjechurch.com
SUMMARY:Mision Reg Bible Study
DESCRIPTION:Rm 102 Sept-May \nTheater June- Aug
URL:https://www.vinjechurch.com/event/mision-reg/2026-03-26/
END:VEVENT
END:VCALENDAR